{"text_format":"1","workbook":"xlsx","n_sheets":5,"sheets":["Anleitung","Rationsberechnung","Bedarf","Futterwertabelle","Druckversion"],"not_rendered":{"charts":0,"images":0,"macros":1,"external_links":0,"defined_names":233,"comments":0,"pivot_tables":0},"unopened":[],"bounds":{"document_bytes":16777216,"sheet_cells":100000,"rows_first":2000,"rows_last":500,"rows_between":2000,"halvings":0,"cell_chars":16384,"cell_head_chars":4096},"cells_cut":0,"cells_raw":0,"read":"whole","date_system":"1900"}

{"sheet":"Anleitung","index":0,"n_rows":44,"n_cols":43,"rows_kept":44,"cut":false,"hidden":false,"merged":[[56,0,56,1],[1,0,1,4],[0,0,0,4]]}
["Futtermittelrechner für Geflügel",null,null,null,null,null,"Version 3.0"]
["©Sebastian Hilbert"]
[]
["Anleitung"]
[]
["Registerkarte \"Bedarf\""]
["In dieser Registerkarte stehen die Bedarfswerte für verschiedenes Geflügel. Da nicht alle Werte vollständig sind, "]
["sollten Sie als erstes die Badarfswerte für Ihr Futter in die eigefärbten Zellen eingeben. Wichtig ist dabei, dass Sie"]
["für alle Inhaltsstoffe, v. a. für die Aminosäuren Threonin und Tryptophan, eine Spanne einkalkulieren, damit der "]
["Solver auch eine Lösung finden kann."]
[]
["Registerkarte \"Futterwerttabelle\""]
["Hier kann der Preis für jedes Futtermittel, sowie drei weitere Futtermittel eingegeben werden."]
["Wenn Ihnen die Inhaltsstoffe für Ihr vorligendes Futtermittel bekannt ist, sollten Sie die Werte in der Tabelle ändern,"]
["denn die Angaben sind lediglich Durschnittswerte. Die Inhaltsstoffe sind in der Regel bei jeder Bezugspartie anders."]
[]
["Registerkarte \"Rationsberechnung\""]
["Alle nötigen Angaben können der farbigen Tabelle entnommen werden. Wenn Sie eine manuelle Eingabe des Prozentsatzes "]
["des jeweiligen Futtermittels wünschen, empfehle ich Ihnen die Eintragung in der Spalte C vorzunehmen, damit die Pfeile "]
["für die Änderung weiterhin funktionieren."]
[]
["Damit der Butten \"Kosten optimieren\" funktioniert, müssen Makros aktiviert sein. Sollte der Butten seine Funktion verweigern"]
["können Sie manuell auf den vorprogrammierten \"Solver\" zugreifen. Wie das funktioniert entnehmen Sie bitte der Excel-Hilfe."]
[]
[]
[]
["Bei Fragen oder Problemen bitte unter"]
["info@fluegelvieh.de "]
["melden."]
["Über Verbesserungsvorschläge wäre ich ebenfalls sehr erfreut."]
[]
[]
[]
["Wichtig:"]
["Ich übernehme keine Haftung für die Richtigkeit der Daten in dieser Datei."]
["Inhaltsstoffe von Futtermitteln können je nach Jahr und Ort verschieden sein.",null,null,null,null,null,null,null,null,null,null,null,null,null,null,null,null,100]
[]
[]
[]
[]
[]
[]
[]
[null,null,null,null,null,null,null,null,null,null,null,null,null,null,null,null,null,null,null,null,null,null,null,null,null,null,null,null,null,6,null,null,null,null,null,null,null,null,null,null,null,null,6]

{"sheet":"Rationsberechnung","index":1,"n_rows":85,"n_cols":24,"rows_kept":85,"cut":false,"hidden":false,"merged":[[29,9,30,10],[29,11,30,12],[3,5,3,6],[2,0,3,2],[21,9,22,11],[21,12,22,13],[0,0,0,4],[3,9,7,9],[8,9,10,9],[2,9,2,11],[3,3,3,4],[2,5,2,6],[11,9,15,9],[16,9,18,9],[19,9,20,13]]}
["Rationsberechnung"]
["Bedarfswerte für:",null,null,15]
["Futtermittel",null,null,"Mindestanteil [%]","Höchstanteil [%]","Empfohlener \nHöchstanteil",null,"Kosten je kg",null,"Inhaltsstoffe bei 88% TS",null,null,"Orientierungs- werte"]
[null,null,null,"< bitte eingeben >",null,"(Orientierungswerte)",null,null,null,"Rohnährstoffe","Energie ME",{"$f":"E82/D81*880","v":{"$error":"#DIV/0!"}},{"$f":"(E84+E85)/2","v":10.899999999999999},{"$f":"IF(L4<E$84,\"!!!\",IF(L4>E$85,\"!!!\",\"OK\"))","v":{"$error":"#DIV/0!"}}]
[102,{"$f":"C5/10","v":0},0,0,100,{"$f":"HLOOKUP(Futterwertabelle!T$2,Futterwertabelle!T$2:T$126,($A5+1),FALSE)","v":"o.B."},{"$f":"IF(HLOOKUP(Futterwertabelle!U$2,Futterwertabelle!U$2:U$126,($A5+1),FALSE)=0,\" \",HLOOKUP(Futterwertabelle!U$2,Futterwertabelle!U$2:U$126,($A5+1)))","v":")* 30% Küken"},{"$f":"(HLOOKUP(Futterwertabelle!S$2,Futterwertabelle!S$2:S$126,($A5+1),FALSE))","v":0.21},null,null,"Rohasche",{"$f":"F$82/$D$81*880","v":{"$error":"#DIV/0!"}}]
[1,{"$f":"C6/10","v":0},0,0,100,{"$f":"HLOOKUP(Futterwertabelle!T$2,Futterwertabelle!T$2:T$126,($A6+1),FALSE)","v":0},{"$f":"IF(HLOOKUP(Futterwertabelle!U$2,Futterwertabelle!U$2:U$126,($A6+1),FALSE)=0,\" \",HLOOKUP(Futterwertabelle!U$2,Futterwertabelle!U$2:U$126,($A6+1)))","v":" "},{"$f":"(HLOOKUP(Futterwertabelle!S$2,Futterwertabelle!S$2:S$126,($A6+1),FALSE))","v":0},null,null,"Rohprotein",{"$f":"J$82/$D$81*880","v":{"$error":"#DIV/0!"}},{"$f":"(J84+J85)/2","v":0.1575},{"$f":"IF(L6<J$84,\"!!!\",IF(L6>J$85,\"!!!\",\"OK\"))","v":{"$error":"#DIV/0!"}}]
[1,0,0,0,100,{"$f":"HLOOKUP(Futterwertabelle!T$2,Futterwertabelle!T$2:T$126,($A7+1),FALSE)","v":0},{"$f":"IF(HLOOKUP(Futterwertabelle!U$2,Futterwertabelle!U$2:U$126,($A7+1),FALSE)=0,\" \",HLOOKUP(Futterwertabelle!U$2,Futterwertabelle!U$2:U$126,($A7+1)))","v":" "},{"$f":"(HLOOKUP(Futterwertabelle!S$2,Futterwertabelle!S$2:S$126,($A7+1),FALSE))","v":0},null,null,"Rohfett",{"$f":"K$82/$D$81*880","v":{"$error":"#DIV/0!"}}]
[1,0,0,0,100,{"$f":"HLOOKUP(Futterwertabelle!T$2,Futterwertabelle!T$2:T$126,($A8+1),FALSE)","v":0},{"$f":"IF(HLOOKUP(Futterwertabelle!U$2,Futterwertabelle!U$2:U$126,($A8+1),FALSE)=0,\" \",HLOOKUP(Futterwertabelle!U$2,Futterwertabelle!U$2:U$126,($A8+1)))","v":" "},{"$f":"(HLOOKUP(Futterwertabelle!S$2,Futterwertabelle!S$2:S$126,($A8+1),FALSE))","v":0},null,null,"Rohfaser",{"$f":"L$82/$D$81*880","v":{"$error":"#DIV/0!"}}]
[1,{"$f":"C9/10","v":0},0,0,100,{"$f":"HLOOKUP(Futterwertabelle!T$2,Futterwertabelle!T$2:T$126,($A9+1),FALSE)","v":0},{"$f":"IF(HLOOKUP(Futterwertabelle!U$2,Futterwertabelle!U$2:U$126,($A9+1),FALSE)=0,\" \",HLOOKUP(Futterwertabelle!U$2,Futterwertabelle!U$2:U$126,($A9+1)))","v":" "},{"$f":"(HLOOKUP(Futterwertabelle!S$2,Futterwertabelle!S$2:S$126,($A9+1),FALSE))","v":0},null,"Mineralstoffe","Calcium",{"$f":"M$82/$D$81*880","v":{"$error":"#DIV/0!"}},{"$f":"(M84+M85)/2","v":3.2500000000000001E-2},{"$f":"IF(L9<M$84,\"!!!\",IF(L9>M$85,\"!!!\",\"OK\"))","v":{"$error":"#DIV/0!"}}]
[1,0,0,0,100,{"$f":"HLOOKUP(Futterwertabelle!T$2,Futterwertabelle!T$2:T$126,($A10+1),FALSE)","v":0},{"$f":"IF(HLOOKUP(Futterwertabelle!U$2,Futterwertabelle!U$2:U$126,($A10+1),FALSE)=0,\" \",HLOOKUP(Futterwertabelle!U$2,Futterwertabelle!U$2:U$126,($A10+1)))","v":" "},{"$f":"(HLOOKUP(Futterwertabelle!S$2,Futterwertabelle!S$2:S$126,($A10+1),FALSE))","v":0},null,null,"Phosphor",{"$f":"N$82/$D$81*880","v":{"$error":"#DIV/0!"}},{"$f":"(N84+N85)/2","v":6.5000000000000006E-3},{"$f":"IF(L10<N$84,\"!!!\",IF(L10>N$85,\"!!!\",\"OK\"))","v":{"$error":"#DIV/0!"}}]
[1,0,0,0,100,{"$f":"HLOOKUP(Futterwertabelle!T$2,Futterwertabelle!T$2:T$126,($A11+1),FALSE)","v":0},{"$f":"IF(HLOOKUP(Futterwertabelle!U$2,Futterwertabelle!U$2:U$126,($A11+1),FALSE)=0,\" \",HLOOKUP(Futterwertabelle!U$2,Futterwertabelle!U$2:U$126,($A11+1)))","v":" "},{"$f":"(HLOOKUP(Futterwertabelle!S$2,Futterwertabelle!S$2:S$126,($A11+1),FALSE))","v":0},null,null,"Natrium",{"$f":"O$82/$D$81*880","v":{"$error":"#DIV/0!"}},{"$f":"(O84+O85)/2","v":1.8500000000000001E-3},{"$f":"IF(L11<O$84,\"!!!\",IF(L11>O$85,\"!!!\",\"OK\"))","v":{"$error":"#DIV/0!"}}]
[1,0,0,0,100,{"$f":"HLOOKUP(Futterwertabelle!T$2,Futterwertabelle!T$2:T$126,($A12+1),FALSE)","v":0},{"$f":"IF(HLOOKUP(Futterwertabelle!U$2,Futterwertabelle!U$2:U$126,($A12+1),FALSE)=0,\" \",HLOOKUP(Futterwertabelle!U$2,Futterwertabelle!U$2:U$126,($A12+1)))","v":" "},{"$f":"(HLOOKUP(Futterwertabelle!S$2,Futterwertabelle!S$2:S$126,($A12+1),FALSE))","v":0},null,"Aminosäuren","Methionin",{"$f":"P$82/$D$81*880","v":{"$error":"#DIV/0!"}},{"$f":"P84","v":3.2000000000000002E-3},{"$f":"IF(L12<P$84,\"!!!\",IF(L12>P$85,\"!!!\",\"OK\"))","v":{"$error":"#DIV/0!"}}]
[1,0,0,0,100,{"$f":"HLOOKUP(Futterwertabelle!T$2,Futterwertabelle!T$2:T$126,($A13+1),FALSE)","v":0},{"$f":"IF(HLOOKUP(Futterwertabelle!U$2,Futterwertabelle!U$2:U$126,($A13+1),FALSE)=0,\" \",HLOOKUP(Futterwertabelle!U$2,Futterwertabelle!U$2:U$126,($A13+1)))","v":" "},{"$f":"(HLOOKUP(Futterwertabelle!S$2,Futterwertabelle!S$2:S$126,($A13+1),FALSE))","v":0},null,null,"Met+Cys",{"$f":"Q$82/$D$81*880","v":{"$error":"#DIV/0!"}},{"$f":"Q84","v":6.0000000000000001E-3},{"$f":"IF(L13<Q$84,\"!!!\",IF(L13>Q$85,\"!!!\",\"OK\"))","v":{"$error":"#DIV/0!"}}]
[1,0,0,0,100,{"$f":"HLOOKUP(Futterwertabelle!T$2,Futterwertabelle!T$2:T$126,($A14+1),FALSE)","v":0},{"$f":"IF(HLOOKUP(Futterwertabelle!U$2,Futterwertabelle!U$2:U$126,($A14+1),FALSE)=0,\" \",HLOOKUP(Futterwertabelle!U$2,Futterwertabelle!U$2:U$126,($A14+1)))","v":" "},{"$f":"(HLOOKUP(Futterwertabelle!S$2,Futterwertabelle!S$2:S$126,($A14+1),FALSE))","v":0},null,null,"Lysin",{"$f":"R$82/$D$81*880","v":{"$error":"#DIV/0!"}},{"$f":"R84","v":6.4999999999999997E-3},{"$f":"IF(L14<R$84,\"!!!\",IF(L14>R$85,\"!!!\",\"OK\"))","v":{"$error":"#DIV/0!"}}]
[1,0,0,0,100,{"$f":"HLOOKUP(Futterwertabelle!T$2,Futterwertabelle!T$2:T$126,($A15+1),FALSE)","v":0},{"$f":"IF(HLOOKUP(Futterwertabelle!U$2,Futterwertabelle!U$2:U$126,($A15+1),FALSE)=0,\" \",HLOOKUP(Futterwertabelle!U$2,Futterwertabelle!U$2:U$126,($A15+1)))","v":" "},{"$f":"(HLOOKUP(Futterwertabelle!S$2,Futterwertabelle!S$2:S$126,($A15+1),FALSE))","v":0},null,null,"Thr",{"$f":"S$82/$D$81*880","v":{"$error":"#DIV/0!"}},{"$f":"S84","v":4.3E-3},{"$f":"IF(L15<S$84,\"!!!\",IF(L15>S$85,\"!!!\",\"OK\"))","v":{"$error":"#DIV/0!"}}]
[1,0,0,0,100,{"$f":"HLOOKUP(Futterwertabelle!T$2,Futterwertabelle!T$2:T$126,($A16+1),FALSE)","v":0},{"$f":"IF(HLOOKUP(Futterwertabelle!U$2,Futterwertabelle!U$2:U$126,($A16+1),FALSE)=0,\" \",HLOOKUP(Futterwertabelle!U$2,Futterwertabelle!U$2:U$126,($A16+1)))","v":" "},{"$f":"(HLOOKUP(Futterwertabelle!S$2,Futterwertabelle!S$2:S$126,($A16+1),FALSE))","v":0},null,null,"Try",{"$f":"T$82/$D$81*880","v":{"$error":"#DIV/0!"}},{"$f":"T84","v":1.4E-3},{"$f":"IF(L16<T$84,\"!!!\",IF(L16>T$85,\"!!!\",\"OK\"))","v":{"$error":"#DIV/0!"}}]
[1,0,0,0,100,{"$f":"HLOOKUP(Futterwertabelle!T$2,Futterwertabelle!T$2:T$126,($A17+1),FALSE)","v":0},{"$f":"IF(HLOOKUP(Futterwertabelle!U$2,Futterwertabelle!U$2:U$126,($A17+1),FALSE)=0,\" \",HLOOKUP(Futterwertabelle!U$2,Futterwertabelle!U$2:U$126,($A17+1)))","v":" "},{"$f":"(HLOOKUP(Futterwertabelle!S$2,Futterwertabelle!S$2:S$126,($A17+1),FALSE))","v":0},null,"Vitamine","Vitamin A",{"$f":"U82/D81*880","v":{"$error":"#DIV/0!"}},{"$f":"(U84+U85)/2","v":17800},{"$f":"IF(L17<U$84,\"!!!\",IF(L17>U$85,\"!!!\",\"OK\"))","v":{"$error":"#DIV/0!"}}]
[1,4.8828124272404251E-5,4.8828124272404249E-4,0,100,{"$f":"HLOOKUP(Futterwertabelle!T$2,Futterwertabelle!T$2:T$126,($A18+1),FALSE)","v":0},{"$f":"IF(HLOOKUP(Futterwertabelle!U$2,Futterwertabelle!U$2:U$126,($A18+1),FALSE)=0,\" \",HLOOKUP(Futterwertabelle!U$2,Futterwertabelle!U$2:U$126,($A18+1)))","v":" "},{"$f":"(HLOOKUP(Futterwertabelle!S$2,Futterwertabelle!S$2:S$126,($A18+1),FALSE))","v":0},null,null,"Vitamin D3",{"$f":"V82/D81*880","v":{"$error":"#DIV/0!"}},{"$f":"(V84+V85)/2","v":2600},{"$f":"IF(L18<V$84,\"!!!\",IF(L18>V$85,\"!!!\",\"OK\"))","v":{"$error":"#DIV/0!"}}]
[1,0,0,0,100,{"$f":"HLOOKUP(Futterwertabelle!T$2,Futterwertabelle!T$2:T$126,($A19+1),FALSE)","v":0},{"$f":"IF(HLOOKUP(Futterwertabelle!U$2,Futterwertabelle!U$2:U$126,($A19+1),FALSE)=0,\" \",HLOOKUP(Futterwertabelle!U$2,Futterwertabelle!U$2:U$126,($A19+1)))","v":" "},{"$f":"(HLOOKUP(Futterwertabelle!S$2,Futterwertabelle!S$2:S$126,($A19+1),FALSE))","v":0},null,null,"Vitamin E",{"$f":"W82/D81*880","v":{"$error":"#DIV/0!"}},{"$f":"(W84+W85)/2","v":80},{"$f":"IF(L19<W$84,\"!!!\",IF(L19>W$85,\"!!!\",\"OK\"))","v":{"$error":"#DIV/0!"}}]
[1,3.9744851728555977E-2,0.3974485172855598,0,100,{"$f":"HLOOKUP(Futterwertabelle!T$2,Futterwertabelle!T$2:T$126,($A20+1),FALSE)","v":0},{"$f":"IF(HLOOKUP(Futterwertabelle!U$2,Futterwertabelle!U$2:U$126,($A20+1),FALSE)=0,\" \",HLOOKUP(Futterwertabelle!U$2,Futterwertabelle!U$2:U$126,($A20+1)))","v":" "},{"$f":"(HLOOKUP(Futterwertabelle!S$2,Futterwertabelle!S$2:S$126,($A20+1),FALSE))","v":0}]
[1,{"$f":"C21/10","v":3.406193509262687E-5},3.4061935092626869E-4,0,100,{"$f":"HLOOKUP(Futterwertabelle!T$2,Futterwertabelle!T$2:T$126,($A21+1),FALSE)","v":0},{"$f":"IF(HLOOKUP(Futterwertabelle!U$2,Futterwertabelle!U$2:U$126,($A21+1),FALSE)=0,\" \",HLOOKUP(Futterwertabelle!U$2,Futterwertabelle!U$2:U$126,($A21+1)))","v":" "},{"$f":"(HLOOKUP(Futterwertabelle!S$2,Futterwertabelle!S$2:S$126,($A21+1),FALSE))","v":0}]
[1,0.10220730630380384,1.0220730630380384,0,100,{"$f":"HLOOKUP(Futterwertabelle!T$2,Futterwertabelle!T$2:T$126,($A22+1),FALSE)","v":0},{"$f":"IF(HLOOKUP(Futterwertabelle!U$2,Futterwertabelle!U$2:U$126,($A22+1),FALSE)=0,\" \",HLOOKUP(Futterwertabelle!U$2,Futterwertabelle!U$2:U$126,($A22+1)))","v":" "},{"$f":"(HLOOKUP(Futterwertabelle!S$2,Futterwertabelle!S$2:S$126,($A22+1),FALSE))","v":0},null,"Kosten je 50 kg:",null,null,{"$f":"X82*50","v":{"$error":"#DIV/0!"}}]
["Summe:",{"$f":"SUM(B35:B52)","v":0},{"$f":"IF(ROUND(B23,1)=100,1,0)","v":0}]
[]
[]
[]
[]
[]
[]
[]
[]
[]
[]
[]
[null,{"$f":"IF(D61=0,0,B5)","v":0},null,{"$f":"IF($B5=0,0,D61*$B5)","v":0},0,0,null,null,null,{"$f":"IF($B5=0,0,J61*$B5)","v":0},0,0,0,0,0,0,0,0,0,0,0,0,0,0]
[null,0,null,0,0,0,null,null,null,{"$f":"IF($B6=0,0,J62*$B6)","v":0},0,0,0,0,0,0,0,0,0,0,0,0,0,0]
[null,0,null,0,0,0,null,null,null,{"$f":"IF($B7=0,0,J63*$B7)","v":0},0,0,0,0,0,0,0,0,0,0,0,0,0,0]
[null,0,null,0,0,0,null,null,null,{"$f":"IF($B8=0,0,J64*$B8)","v":0},0,0,0,0,0,0,0,0,0,0,0,0,0,0]
[null,0,null,0,0,0,null,null,null,{"$f":"IF($B9=0,0,J65*$B9)","v":0},0,0,0,0,0,0,0,0,0,0,0,0,0,0]
[null,0,null,0,0,0,null,null,null,{"$f":"IF($B10=0,0,J66*$B10)","v":0},0,0,0,0,0,0,0,0,0,0,0,0,0,0]
[null,0,null,0,0,0,null,null,null,{"$f":"IF($B11=0,0,J67*$B11)","v":0},0,0,0,0,0,0,0,0,0,0,0,0,0,0]
[null,0,null,0,0,0,null,null,null,{"$f":"IF($B12=0,0,J68*$B12)","v":0},0,0,0,0,0,0,0,0,0,0,0,0,0,0]
[null,0,null,0,0,0,null,null,null,{"$f":"IF($B13=0,0,J69*$B13)","v":0},0,0,0,0,0,0,0,0,0,0,0,0,0,0]
[null,{"$f":"IF(D70=0,0,B14)","v":0},null,{"$f":"IF($B14=0,0,D70*$B14)","v":0},0,0,null,null,null,{"$f":"IF($B14=0,0,J70*$B14)","v":0},0,0,0,0,0,0,0,0,0,0,0,0,0,0]
[null,0,null,{"$f":"IF($B15=0,0,D71*$B15)","v":0},0,0,null,null,null,{"$f":"IF($B15=0,0,J71*$B15)","v":0},0,0,0,0,0,0,0,0,0,0,0,0,0,0]
[null,0,null,{"$f":"IF($B16=0,0,D72*$B16)","v":0},0,0,null,null,null,{"$f":"IF($B16=0,0,J72*$B16)","v":0},0,0,0,0,0,0,0,0,0,0,0,0,0,0]
[null,0,null,{"$f":"IF($B17=0,0,D73*$B17)","v":0},0,0,null,null,null,{"$f":"IF($B17=0,0,J73*$B17)","v":0},0,0,0,0,0,0,0,0,0,0,0,0,0,0]
[null,{"$f":"IF(D74=0,0,B18)","v":0},null,{"$f":"IF($B18=0,0,D74*$B18)","v":0},0,0,null,null,null,{"$f":"IF($B18=0,0,J74*$B18)","v":0},0,0,0,0,0,0,0,0,0,0,0,0,0,0]
[null,{"$f":"IF(D75=0,0,B19)","v":0},null,0,0,0,null,null,null,{"$f":"IF($B19=0,0,J75*$B19)","v":0},0,0,0,0,0,0,0,0,0,0,0,0,0,0]
[null,{"$f":"IF(D76=0,0,B20)","v":0},null,0,0,0,null,null,null,{"$f":"IF($B20=0,0,J76*$B20)","v":0},0,0,0,0,0,0,0,0,0,0,0,0,0,0]
[null,{"$f":"IF(D77=0,0,B21)","v":0},null,{"$f":"IF($B21=0,0,D77*$B21)","v":0},0,0,null,null,null,{"$f":"IF($B21=0,0,J77*$B21)","v":0},0,0,0,0,0,0,0,0,0,0,0,0,0,0]
[null,{"$f":"IF(D78=0,0,B22)","v":0},null,{"$f":"IF($B22=0,0,D78*$B22)","v":0},0,0,null,null,null,{"$f":"IF($B22=0,0,J78*$B22)","v":0},0,0,0,0,0,0,0,0,0,0,0,0,0,0]
[]
[]
[]
[]
[]
[]
[null,null,null,"Trocken-substanz","Energie ME ","XA",null,null,null,"XP","XL","XF","Ca","P","Na","Met","Met+Cys","Lys","Thr","Try","Vit A","Vit D3","Vit E","Preis €/kg"]
[]
[null,null,null,{"$f":"HLOOKUP(Futterwertabelle!C$2,Futterwertabelle!C$2:C$126,($A5+1),FALSE)","v":870},{"$f":"HLOOKUP(Futterwertabelle!B$2,Futterwertabelle!B$2:B$126,($A5+1),FALSE)","v":12.78},{"$f":"(HLOOKUP(Futterwertabelle!D$2,Futterwertabelle!D$2:D$126,($A5+1),FALSE))","v":17},null,null,null,{"$f":"(HLOOKUP(Futterwertabelle!E$2,Futterwertabelle!E$2:E$126,($A5+1),FALSE))","v":120},{"$f":"(HLOOKUP(Futterwertabelle!F$2,Futterwertabelle!F$2:F$126,($A5+1),FALSE))","v":17},{"$f":"(HLOOKUP(Futterwertabelle!G$2,Futterwertabelle!G$2:G$126,($A5+1),FALSE))","v":25},{"$f":"(HLOOKUP(Futterwertabelle!H$2,Futterwertabelle!H$2:H$126,($A5+1),FALSE))","v":0.6},{"$f":"(HLOOKUP(Futterwertabelle!I$2,Futterwertabelle!I$2:I$126,($A5+1),FALSE))","v":3.3},{"$f":"(HLOOKUP(Futterwertabelle!J$2,Futterwertabelle!J$2:J$126,($A5+1),FALSE))","v":0.1},{"$f":"(HLOOKUP(Futterwertabelle!K$2,Futterwertabelle!K$2:K$126,($A5+1),FALSE))","v":1.8},{"$f":"(HLOOKUP(Futterwertabelle!L$2,Futterwertabelle!L$2:L$126,($A5+1),FALSE))","v":4.5999999999999996},{"$f":"(HLOOKUP(Futterwertabelle!M$2,Futterwertabelle!M$2:M$126,($A5+1),FALSE))","v":3.4},{"$f":"(HLOOKUP(Futterwertabelle!N$2,Futterwertabelle!N$2:N$126,($A5+1),FALSE))","v":3.5},{"$f":"(HLOOKUP(Futterwertabelle!O$2,Futterwertabelle!O$2:O$126,($A5+1),FALSE))","v":1.6},{"$f":"(HLOOKUP(Futterwertabelle!P$2,Futterwertabelle!P$2:P$126,($A5+1),FALSE))","v":0},{"$f":"(HLOOKUP(Futterwertabelle!Q$2,Futterwertabelle!Q$2:Q$126,($A5+1),FALSE))","v":0},{"$f":"(HLOOKUP(Futterwertabelle!R$2,Futterwertabelle!R$2:R$126,($A5+1),FALSE))","v":0},{"$f":"(HLOOKUP(Futterwertabelle!S$2,Futterwertabelle!S$2:S$126,($A5+1),FALSE))","v":0.21}]
[null,null,null,{"$f":"HLOOKUP(Futterwertabelle!C$2,Futterwertabelle!C$2:C$126,($A6+1),FALSE)","v":0},{"$f":"HLOOKUP(Futterwertabelle!B$2,Futterwertabelle!B$2:B$126,($A6+1),FALSE)","v":0},{"$f":"(HLOOKUP(Futterwertabelle!D$2,Futterwertabelle!D$2:D$126,($A6+1),FALSE))","v":0},null,null,null,{"$f":"(HLOOKUP(Futterwertabelle!E$2,Futterwertabelle!E$2:E$126,($A6+1),FALSE))","v":0},{"$f":"(HLOOKUP(Futterwertabelle!F$2,Futterwertabelle!F$2:F$126,($A6+1),FALSE))","v":0},{"$f":"(HLOOKUP(Futterwertabelle!G$2,Futterwertabelle!G$2:G$126,($A6+1),FALSE))","v":0},{"$f":"(HLOOKUP(Futterwertabelle!H$2,Futterwertabelle!H$2:H$126,($A6+1),FALSE))","v":0},{"$f":"(HLOOKUP(Futterwertabelle!I$2,Futterwertabelle!I$2:I$126,($A6+1),FALSE))","v":0},{"$f":"(HLOOKUP(Futterwertabelle!J$2,Futterwertabelle!J$2:J$126,($A6+1),FALSE))","v":0},{"$f":"(HLOOKUP(Futterwertabelle!K$2,Futterwertabelle!K$2:K$126,($A6+1),FALSE))","v":0},{"$f":"(HLOOKUP(Futterwertabelle!L$2,Futterwertabelle!L$2:L$126,($A6+1),FALSE))","v":0},{"$f":"(HLOOKUP(Futterwertabelle!M$2,Futterwertabelle!M$2:M$126,($A6+1),FALSE))","v":0},{"$f":"(HLOOKUP(Futterwertabelle!N$2,Futterwertabelle!N$2:N$126,($A6+1),FALSE))","v":0},{"$f":"(HLOOKUP(Futterwertabelle!O$2,Futterwertabelle!O$2:O$126,($A6+1),FALSE))","v":0},{"$f":"(HLOOKUP(Futterwertabelle!P$2,Futterwertabelle!P$2:P$126,($A6+1),FALSE))","v":0},{"$f":"(HLOOKUP(Futterwertabelle!Q$2,Futterwertabelle!Q$2:Q$126,($A6+1),FALSE))","v":0},{"$f":"(HLOOKUP(Futterwertabelle!R$2,Futterwertabelle!R$2:R$126,($A6+1),FALSE))","v":0},{"$f":"(HLOOKUP(Futterwertabelle!S$2,Futterwertabelle!S$2:S$126,($A6+1),FALSE))","v":0}]
[null,null,null,{"$f":"HLOOKUP(Futterwertabelle!C$2,Futterwertabelle!C$2:C$126,($A7+1),FALSE)","v":0},{"$f":"HLOOKUP(Futterwertabelle!B$2,Futterwertabelle!B$2:B$126,($A7+1),FALSE)","v":0},{"$f":"(HLOOKUP(Futterwertabelle!D$2,Futterwertabelle!D$2:D$126,($A7+1),FALSE))","v":0},null,null,null,{"$f":"(HLOOKUP(Futterwertabelle!E$2,Futterwertabelle!E$2:E$126,($A7+1),FALSE))","v":0},{"$f":"(HLOOKUP(Futterwertabelle!F$2,Futterwertabelle!F$2:F$126,($A7+1),FALSE))","v":0},{"$f":"(HLOOKUP(Futterwertabelle!G$2,Futterwertabelle!G$2:G$126,($A7+1),FALSE))","v":0},{"$f":"(HLOOKUP(Futterwertabelle!H$2,Futterwertabelle!H$2:H$126,($A7+1),FALSE))","v":0},{"$f":"(HLOOKUP(Futterwertabelle!I$2,Futterwertabelle!I$2:I$126,($A7+1),FALSE))","v":0},{"$f":"(HLOOKUP(Futterwertabelle!J$2,Futterwertabelle!J$2:J$126,($A7+1),FALSE))","v":0},{"$f":"(HLOOKUP(Futterwertabelle!K$2,Futterwertabelle!K$2:K$126,($A7+1),FALSE))","v":0},{"$f":"(HLOOKUP(Futterwertabelle!L$2,Futterwertabelle!L$2:L$126,($A7+1),FALSE))","v":0},{"$f":"(HLOOKUP(Futterwertabelle!M$2,Futterwertabelle!M$2:M$126,($A7+1),FALSE))","v":0},{"$f":"(HLOOKUP(Futterwertabelle!N$2,Futterwertabelle!N$2:N$126,($A7+1),FALSE))","v":0},{"$f":"(HLOOKUP(Futterwertabelle!O$2,Futterwertabelle!O$2:O$126,($A7+1),FALSE))","v":0},{"$f":"(HLOOKUP(Futterwertabelle!P$2,Futterwertabelle!P$2:P$126,($A7+1),FALSE))","v":0},{"$f":"(HLOOKUP(Futterwertabelle!Q$2,Futterwertabelle!Q$2:Q$126,($A7+1),FALSE))","v":0},{"$f":"(HLOOKUP(Futterwertabelle!R$2,Futterwertabelle!R$2:R$126,($A7+1),FALSE))","v":0},{"$f":"(HLOOKUP(Futterwertabelle!S$2,Futterwertabelle!S$2:S$126,($A7+1),FALSE))","v":0}]
[null,null,null,{"$f":"HLOOKUP(Futterwertabelle!C$2,Futterwertabelle!C$2:C$126,($A8+1),FALSE)","v":0},{"$f":"HLOOKUP(Futterwertabelle!B$2,Futterwertabelle!B$2:B$126,($A8+1),FALSE)","v":0},{"$f":"(HLOOKUP(Futterwertabelle!D$2,Futterwertabelle!D$2:D$126,($A8+1),FALSE))","v":0},null,null,null,{"$f":"(HLOOKUP(Futterwertabelle!E$2,Futterwertabelle!E$2:E$126,($A8+1),FALSE))","v":0},{"$f":"(HLOOKUP(Futterwertabelle!F$2,Futterwertabelle!F$2:F$126,($A8+1),FALSE))","v":0},{"$f":"(HLOOKUP(Futterwertabelle!G$2,Futterwertabelle!G$2:G$126,($A8+1),FALSE))","v":0},{"$f":"(HLOOKUP(Futterwertabelle!H$2,Futterwertabelle!H$2:H$126,($A8+1),FALSE))","v":0},{"$f":"(HLOOKUP(Futterwertabelle!I$2,Futterwertabelle!I$2:I$126,($A8+1),FALSE))","v":0},{"$f":"(HLOOKUP(Futterwertabelle!J$2,Futterwertabelle!J$2:J$126,($A8+1),FALSE))","v":0},{"$f":"(HLOOKUP(Futterwertabelle!K$2,Futterwertabelle!K$2:K$126,($A8+1),FALSE))","v":0},{"$f":"(HLOOKUP(Futterwertabelle!L$2,Futterwertabelle!L$2:L$126,($A8+1),FALSE))","v":0},{"$f":"(HLOOKUP(Futterwertabelle!M$2,Futterwertabelle!M$2:M$126,($A8+1),FALSE))","v":0},{"$f":"(HLOOKUP(Futterwertabelle!N$2,Futterwertabelle!N$2:N$126,($A8+1),FALSE))","v":0},{"$f":"(HLOOKUP(Futterwertabelle!O$2,Futterwertabelle!O$2:O$126,($A8+1),FALSE))","v":0},{"$f":"(HLOOKUP(Futterwertabelle!P$2,Futterwertabelle!P$2:P$126,($A8+1),FALSE))","v":0},{"$f":"(HLOOKUP(Futterwertabelle!Q$2,Futterwertabelle!Q$2:Q$126,($A8+1),FALSE))","v":0},{"$f":"(HLOOKUP(Futterwertabelle!R$2,Futterwertabelle!R$2:R$126,($A8+1),FALSE))","v":0},{"$f":"(HLOOKUP(Futterwertabelle!S$2,Futterwertabelle!S$2:S$126,($A8+1),FALSE))","v":0}]
[null,null,null,{"$f":"HLOOKUP(Futterwertabelle!C$2,Futterwertabelle!C$2:C$126,($A9+1),FALSE)","v":0},{"$f":"HLOOKUP(Futterwertabelle!B$2,Futterwertabelle!B$2:B$126,($A9+1),FALSE)","v":0},{"$f":"(HLOOKUP(Futterwertabelle!D$2,Futterwertabelle!D$2:D$126,($A9+1),FALSE))","v":0},null,null,null,{"$f":"(HLOOKUP(Futterwertabelle!E$2,Futterwertabelle!E$2:E$126,($A9+1),FALSE))","v":0},{"$f":"(HLOOKUP(Futterwertabelle!F$2,Futterwertabelle!F$2:F$126,($A9+1),FALSE))","v":0},{"$f":"(HLOOKUP(Futterwertabelle!G$2,Futterwertabelle!G$2:G$126,($A9+1),FALSE))","v":0},{"$f":"(HLOOKUP(Futterwertabelle!H$2,Futterwertabelle!H$2:H$126,($A9+1),FALSE))","v":0},{"$f":"(HLOOKUP(Futterwertabelle!I$2,Futterwertabelle!I$2:I$126,($A9+1),FALSE))","v":0},{"$f":"(HLOOKUP(Futterwertabelle!J$2,Futterwertabelle!J$2:J$126,($A9+1),FALSE))","v":0},{"$f":"(HLOOKUP(Futterwertabelle!K$2,Futterwertabelle!K$2:K$126,($A9+1),FALSE))","v":0},{"$f":"(HLOOKUP(Futterwertabelle!L$2,Futterwertabelle!L$2:L$126,($A9+1),FALSE))","v":0},{"$f":"(HLOOKUP(Futterwertabelle!M$2,Futterwertabelle!M$2:M$126,($A9+1),FALSE))","v":0},{"$f":"(HLOOKUP(Futterwertabelle!N$2,Futterwertabelle!N$2:N$126,($A9+1),FALSE))","v":0},{"$f":"(HLOOKUP(Futterwertabelle!O$2,Futterwertabelle!O$2:O$126,($A9+1),FALSE))","v":0},{"$f":"(HLOOKUP(Futterwertabelle!P$2,Futterwertabelle!P$2:P$126,($A9+1),FALSE))","v":0},{"$f":"(HLOOKUP(Futterwertabelle!Q$2,Futterwertabelle!Q$2:Q$126,($A9+1),FALSE))","v":0},{"$f":"(HLOOKUP(Futterwertabelle!R$2,Futterwertabelle!R$2:R$126,($A9+1),FALSE))","v":0},{"$f":"(HLOOKUP(Futterwertabelle!S$2,Futterwertabelle!S$2:S$126,($A9+1),FALSE))","v":0}]
[null,null,null,{"$f":"HLOOKUP(Futterwertabelle!C$2,Futterwertabelle!C$2:C$126,($A10+1),FALSE)","v":0},{"$f":"HLOOKUP(Futterwertabelle!B$2,Futterwertabelle!B$2:B$126,($A10+1),FALSE)","v":0},{"$f":"(HLOOKUP(Futterwertabelle!D$2,Futterwertabelle!D$2:D$126,($A10+1),FALSE))","v":0},null,null,null,{"$f":"(HLOOKUP(Futterwertabelle!E$2,Futterwertabelle!E$2:E$126,($A10+1),FALSE))","v":0},{"$f":"(HLOOKUP(Futterwertabelle!F$2,Futterwertabelle!F$2:F$126,($A10+1),FALSE))","v":0},{"$f":"(HLOOKUP(Futterwertabelle!G$2,Futterwertabelle!G$2:G$126,($A10+1),FALSE))","v":0},{"$f":"(HLOOKUP(Futterwertabelle!H$2,Futterwertabelle!H$2:H$126,($A10+1),FALSE))","v":0},{"$f":"(HLOOKUP(Futterwertabelle!I$2,Futterwertabelle!I$2:I$126,($A10+1),FALSE))","v":0},{"$f":"(HLOOKUP(Futterwertabelle!J$2,Futterwertabelle!J$2:J$126,($A10+1),FALSE))","v":0},{"$f":"(HLOOKUP(Futterwertabelle!K$2,Futterwertabelle!K$2:K$126,($A10+1),FALSE))","v":0},{"$f":"(HLOOKUP(Futterwertabelle!L$2,Futterwertabelle!L$2:L$126,($A10+1),FALSE))","v":0},{"$f":"(HLOOKUP(Futterwertabelle!M$2,Futterwertabelle!M$2:M$126,($A10+1),FALSE))","v":0},{"$f":"(HLOOKUP(Futterwertabelle!N$2,Futterwertabelle!N$2:N$126,($A10+1),FALSE))","v":0},{"$f":"(HLOOKUP(Futterwertabelle!O$2,Futterwertabelle!O$2:O$126,($A10+1),FALSE))","v":0},{"$f":"(HLOOKUP(Futterwertabelle!P$2,Futterwertabelle!P$2:P$126,($A10+1),FALSE))","v":0},{"$f":"(HLOOKUP(Futterwertabelle!Q$2,Futterwertabelle!Q$2:Q$126,($A10+1),FALSE))","v":0},{"$f":"(HLOOKUP(Futterwertabelle!R$2,Futterwertabelle!R$2:R$126,($A10+1),FALSE))","v":0},{"$f":"(HLOOKUP(Futterwertabelle!S$2,Futterwertabelle!S$2:S$126,($A10+1),FALSE))","v":0}]
[null,null,null,{"$f":"HLOOKUP(Futterwertabelle!C$2,Futterwertabelle!C$2:C$126,($A11+1),FALSE)","v":0},{"$f":"HLOOKUP(Futterwertabelle!B$2,Futterwertabelle!B$2:B$126,($A11+1),FALSE)","v":0},{"$f":"(HLOOKUP(Futterwertabelle!D$2,Futterwertabelle!D$2:D$126,($A11+1),FALSE))","v":0},null,null,null,{"$f":"(HLOOKUP(Futterwertabelle!E$2,Futterwertabelle!E$2:E$126,($A11+1),FALSE))","v":0},{"$f":"(HLOOKUP(Futterwertabelle!F$2,Futterwertabelle!F$2:F$126,($A11+1),FALSE))","v":0},{"$f":"(HLOOKUP(Futterwertabelle!G$2,Futterwertabelle!G$2:G$126,($A11+1),FALSE))","v":0},{"$f":"(HLOOKUP(Futterwertabelle!H$2,Futterwertabelle!H$2:H$126,($A11+1),FALSE))","v":0},{"$f":"(HLOOKUP(Futterwertabelle!I$2,Futterwertabelle!I$2:I$126,($A11+1),FALSE))","v":0},{"$f":"(HLOOKUP(Futterwertabelle!J$2,Futterwertabelle!J$2:J$126,($A11+1),FALSE))","v":0},{"$f":"(HLOOKUP(Futterwertabelle!K$2,Futterwertabelle!K$2:K$126,($A11+1),FALSE))","v":0},{"$f":"(HLOOKUP(Futterwertabelle!L$2,Futterwertabelle!L$2:L$126,($A11+1),FALSE))","v":0},{"$f":"(HLOOKUP(Futterwertabelle!M$2,Futterwertabelle!M$2:M$126,($A11+1),FALSE))","v":0},{"$f":"(HLOOKUP(Futterwertabelle!N$2,Futterwertabelle!N$2:N$126,($A11+1),FALSE))","v":0},{"$f":"(HLOOKUP(Futterwertabelle!O$2,Futterwertabelle!O$2:O$126,($A11+1),FALSE))","v":0},{"$f":"(HLOOKUP(Futterwertabelle!P$2,Futterwertabelle!P$2:P$126,($A11+1),FALSE))","v":0},{"$f":"(HLOOKUP(Futterwertabelle!Q$2,Futterwertabelle!Q$2:Q$126,($A11+1),FALSE))","v":0},{"$f":"(HLOOKUP(Futterwertabelle!R$2,Futterwertabelle!R$2:R$126,($A11+1),FALSE))","v":0},{"$f":"(HLOOKUP(Futterwertabelle!S$2,Futterwertabelle!S$2:S$126,($A11+1),FALSE))","v":0}]
[null,null,null,{"$f":"HLOOKUP(Futterwertabelle!C$2,Futterwertabelle!C$2:C$126,($A12+1),FALSE)","v":0},{"$f":"HLOOKUP(Futterwertabelle!B$2,Futterwertabelle!B$2:B$126,($A12+1),FALSE)","v":0},{"$f":"(HLOOKUP(Futterwertabelle!D$2,Futterwertabelle!D$2:D$126,($A12+1),FALSE))","v":0},null,null,null,{"$f":"(HLOOKUP(Futterwertabelle!E$2,Futterwertabelle!E$2:E$126,($A12+1),FALSE))","v":0},{"$f":"(HLOOKUP(Futterwertabelle!F$2,Futterwertabelle!F$2:F$126,($A12+1),FALSE))","v":0},{"$f":"(HLOOKUP(Futterwertabelle!G$2,Futterwertabelle!G$2:G$126,($A12+1),FALSE))","v":0},{"$f":"(HLOOKUP(Futterwertabelle!H$2,Futterwertabelle!H$2:H$126,($A12+1),FALSE))","v":0},{"$f":"(HLOOKUP(Futterwertabelle!I$2,Futterwertabelle!I$2:I$126,($A12+1),FALSE))","v":0},{"$f":"(HLOOKUP(Futterwertabelle!J$2,Futterwertabelle!J$2:J$126,($A12+1),FALSE))","v":0},{"$f":"(HLOOKUP(Futterwertabelle!K$2,Futterwertabelle!K$2:K$126,($A12+1),FALSE))","v":0},{"$f":"(HLOOKUP(Futterwertabelle!L$2,Futterwertabelle!L$2:L$126,($A12+1),FALSE))","v":0},{"$f":"(HLOOKUP(Futterwertabelle!M$2,Futterwertabelle!M$2:M$126,($A12+1),FALSE))","v":0},{"$f":"(HLOOKUP(Futterwertabelle!N$2,Futterwertabelle!N$2:N$126,($A12+1),FALSE))","v":0},{"$f":"(HLOOKUP(Futterwertabelle!O$2,Futterwertabelle!O$2:O$126,($A12+1),FALSE))","v":0},{"$f":"(HLOOKUP(Futterwertabelle!P$2,Futterwertabelle!P$2:P$126,($A12+1),FALSE))","v":0},{"$f":"(HLOOKUP(Futterwertabelle!Q$2,Futterwertabelle!Q$2:Q$126,($A12+1),FALSE))","v":0},{"$f":"(HLOOKUP(Futterwertabelle!R$2,Futterwertabelle!R$2:R$126,($A12+1),FALSE))","v":0},{"$f":"(HLOOKUP(Futterwertabelle!S$2,Futterwertabelle!S$2:S$126,($A12+1),FALSE))","v":0}]
[null,null,null,{"$f":"HLOOKUP(Futterwertabelle!C$2,Futterwertabelle!C$2:C$126,($A13+1),FALSE)","v":0},{"$f":"HLOOKUP(Futterwertabelle!B$2,Futterwertabelle!B$2:B$126,($A13+1),FALSE)","v":0},{"$f":"(HLOOKUP(Futterwertabelle!D$2,Futterwertabelle!D$2:D$126,($A13+1),FALSE))","v":0},null,null,null,{"$f":"(HLOOKUP(Futterwertabelle!E$2,Futterwertabelle!E$2:E$126,($A13+1),FALSE))","v":0},{"$f":"(HLOOKUP(Futterwertabelle!F$2,Futterwertabelle!F$2:F$126,($A13+1),FALSE))","v":0},{"$f":"(HLOOKUP(Futterwertabelle!G$2,Futterwertabelle!G$2:G$126,($A13+1),FALSE))","v":0},{"$f":"(HLOOKUP(Futterwertabelle!H$2,Futterwertabelle!H$2:H$126,($A13+1),FALSE))","v":0},{"$f":"(HLOOKUP(Futterwertabelle!I$2,Futterwertabelle!I$2:I$126,($A13+1),FALSE))","v":0},{"$f":"(HLOOKUP(Futterwertabelle!J$2,Futterwertabelle!J$2:J$126,($A13+1),FALSE))","v":0},{"$f":"(HLOOKUP(Futterwertabelle!K$2,Futterwertabelle!K$2:K$126,($A13+1),FALSE))","v":0},{"$f":"(HLOOKUP(Futterwertabelle!L$2,Futterwertabelle!L$2:L$126,($A13+1),FALSE))","v":0},{"$f":"(HLOOKUP(Futterwertabelle!M$2,Futterwertabelle!M$2:M$126,($A13+1),FALSE))","v":0},{"$f":"(HLOOKUP(Futterwertabelle!N$2,Futterwertabelle!N$2:N$126,($A13+1),FALSE))","v":0},{"$f":"(HLOOKUP(Futterwertabelle!O$2,Futterwertabelle!O$2:O$126,($A13+1),FALSE))","v":0},{"$f":"(HLOOKUP(Futterwertabelle!P$2,Futterwertabelle!P$2:P$126,($A13+1),FALSE))","v":0},{"$f":"(HLOOKUP(Futterwertabelle!Q$2,Futterwertabelle!Q$2:Q$126,($A13+1),FALSE))","v":0},{"$f":"(HLOOKUP(Futterwertabelle!R$2,Futterwertabelle!R$2:R$126,($A13+1),FALSE))","v":0},{"$f":"(HLOOKUP(Futterwertabelle!S$2,Futterwertabelle!S$2:S$126,($A13+1),FALSE))","v":0}]
[null,null,null,{"$f":"HLOOKUP(Futterwertabelle!C$2,Futterwertabelle!C$2:C$126,($A14+1),FALSE)","v":0},{"$f":"HLOOKUP(Futterwertabelle!B$2,Futterwertabelle!B$2:B$126,($A14+1),FALSE)","v":0},{"$f":"(HLOOKUP(Futterwertabelle!D$2,Futterwertabelle!D$2:D$126,($A14+1),FALSE))","v":0},null,null,null,{"$f":"(HLOOKUP(Futterwertabelle!E$2,Futterwertabelle!E$2:E$126,($A14+1),FALSE))","v":0},{"$f":"(HLOOKUP(Futterwertabelle!F$2,Futterwertabelle!F$2:F$126,($A14+1),FALSE))","v":0},{"$f":"(HLOOKUP(Futterwertabelle!G$2,Futterwertabelle!G$2:G$126,($A14+1),FALSE))","v":0},{"$f":"(HLOOKUP(Futterwertabelle!H$2,Futterwertabelle!H$2:H$126,($A14+1),FALSE))","v":0},{"$f":"(HLOOKUP(Futterwertabelle!I$2,Futterwertabelle!I$2:I$126,($A14+1),FALSE))","v":0},{"$f":"(HLOOKUP(Futterwertabelle!J$2,Futterwertabelle!J$2:J$126,($A14+1),FALSE))","v":0},{"$f":"(HLOOKUP(Futterwertabelle!K$2,Futterwertabelle!K$2:K$126,($A14+1),FALSE))","v":0},{"$f":"(HLOOKUP(Futterwertabelle!L$2,Futterwertabelle!L$2:L$126,($A14+1),FALSE))","v":0},{"$f":"(HLOOKUP(Futterwertabelle!M$2,Futterwertabelle!M$2:M$126,($A14+1),FALSE))","v":0},{"$f":"(HLOOKUP(Futterwertabelle!N$2,Futterwertabelle!N$2:N$126,($A14+1),FALSE))","v":0},{"$f":"(HLOOKUP(Futterwertabelle!O$2,Futterwertabelle!O$2:O$126,($A14+1),FALSE))","v":0},{"$f":"(HLOOKUP(Futterwertabelle!P$2,Futterwertabelle!P$2:P$126,($A14+1),FALSE))","v":0},{"$f":"(HLOOKUP(Futterwertabelle!Q$2,Futterwertabelle!Q$2:Q$126,($A14+1),FALSE))","v":0},{"$f":"(HLOOKUP(Futterwertabelle!R$2,Futterwertabelle!R$2:R$126,($A14+1),FALSE))","v":0},{"$f":"(HLOOKUP(Futterwertabelle!S$2,Futterwertabelle!S$2:S$126,($A14+1),FALSE))","v":0}]
[null,null,null,{"$f":"HLOOKUP(Futterwertabelle!C$2,Futterwertabelle!C$2:C$126,($A15+1),FALSE)","v":0},{"$f":"HLOOKUP(Futterwertabelle!B$2,Futterwertabelle!B$2:B$126,($A15+1),FALSE)","v":0},{"$f":"(HLOOKUP(Futterwertabelle!D$2,Futterwertabelle!D$2:D$126,($A15+1),FALSE))","v":0},null,null,null,{"$f":"(HLOOKUP(Futterwertabelle!E$2,Futterwertabelle!E$2:E$126,($A15+1),FALSE))","v":0},{"$f":"(HLOOKUP(Futterwertabelle!F$2,Futterwertabelle!F$2:F$126,($A15+1),FALSE))","v":0},{"$f":"(HLOOKUP(Futterwertabelle!G$2,Futterwertabelle!G$2:G$126,($A15+1),FALSE))","v":0},{"$f":"(HLOOKUP(Futterwertabelle!H$2,Futterwertabelle!H$2:H$126,($A15+1),FALSE))","v":0},{"$f":"(HLOOKUP(Futterwertabelle!I$2,Futterwertabelle!I$2:I$126,($A15+1),FALSE))","v":0},{"$f":"(HLOOKUP(Futterwertabelle!J$2,Futterwertabelle!J$2:J$126,($A15+1),FALSE))","v":0},{"$f":"(HLOOKUP(Futterwertabelle!K$2,Futterwertabelle!K$2:K$126,($A15+1),FALSE))","v":0},{"$f":"(HLOOKUP(Futterwertabelle!L$2,Futterwertabelle!L$2:L$126,($A15+1),FALSE))","v":0},{"$f":"(HLOOKUP(Futterwertabelle!M$2,Futterwertabelle!M$2:M$126,($A15+1),FALSE))","v":0},{"$f":"(HLOOKUP(Futterwertabelle!N$2,Futterwertabelle!N$2:N$126,($A15+1),FALSE))","v":0},{"$f":"(HLOOKUP(Futterwertabelle!O$2,Futterwertabelle!O$2:O$126,($A15+1),FALSE))","v":0},{"$f":"(HLOOKUP(Futterwertabelle!P$2,Futterwertabelle!P$2:P$126,($A15+1),FALSE))","v":0},{"$f":"(HLOOKUP(Futterwertabelle!Q$2,Futterwertabelle!Q$2:Q$126,($A15+1),FALSE))","v":0},{"$f":"(HLOOKUP(Futterwertabelle!R$2,Futterwertabelle!R$2:R$126,($A15+1),FALSE))","v":0},{"$f":"(HLOOKUP(Futterwertabelle!S$2,Futterwertabelle!S$2:S$126,($A15+1),FALSE))","v":0}]
[null,null,null,{"$f":"HLOOKUP(Futterwertabelle!C$2,Futterwertabelle!C$2:C$126,($A16+1),FALSE)","v":0},{"$f":"HLOOKUP(Futterwertabelle!B$2,Futterwertabelle!B$2:B$126,($A16+1),FALSE)","v":0},{"$f":"(HLOOKUP(Futterwertabelle!D$2,Futterwertabelle!D$2:D$126,($A16+1),FALSE))","v":0},null,null,null,{"$f":"(HLOOKUP(Futterwertabelle!E$2,Futterwertabelle!E$2:E$126,($A16+1),FALSE))","v":0},{"$f":"(HLOOKUP(Futterwertabelle!F$2,Futterwertabelle!F$2:F$126,($A16+1),FALSE))","v":0},{"$f":"(HLOOKUP(Futterwertabelle!G$2,Futterwertabelle!G$2:G$126,($A16+1),FALSE))","v":0},{"$f":"(HLOOKUP(Futterwertabelle!H$2,Futterwertabelle!H$2:H$126,($A16+1),FALSE))","v":0},{"$f":"(HLOOKUP(Futterwertabelle!I$2,Futterwertabelle!I$2:I$126,($A16+1),FALSE))","v":0},{"$f":"(HLOOKUP(Futterwertabelle!J$2,Futterwertabelle!J$2:J$126,($A16+1),FALSE))","v":0},{"$f":"(HLOOKUP(Futterwertabelle!K$2,Futterwertabelle!K$2:K$126,($A16+1),FALSE))","v":0},{"$f":"(HLOOKUP(Futterwertabelle!L$2,Futterwertabelle!L$2:L$126,($A16+1),FALSE))","v":0},{"$f":"(HLOOKUP(Futterwertabelle!M$2,Futterwertabelle!M$2:M$126,($A16+1),FALSE))","v":0},{"$f":"(HLOOKUP(Futterwertabelle!N$2,Futterwertabelle!N$2:N$126,($A16+1),FALSE))","v":0},{"$f":"(HLOOKUP(Futterwertabelle!O$2,Futterwertabelle!O$2:O$126,($A16+1),FALSE))","v":0},{"$f":"(HLOOKUP(Futterwertabelle!P$2,Futterwertabelle!P$2:P$126,($A16+1),FALSE))","v":0},{"$f":"(HLOOKUP(Futterwertabelle!Q$2,Futterwertabelle!Q$2:Q$126,($A16+1),FALSE))","v":0},{"$f":"(HLOOKUP(Futterwertabelle!R$2,Futterwertabelle!R$2:R$126,($A16+1),FALSE))","v":0},{"$f":"(HLOOKUP(Futterwertabelle!S$2,Futterwertabelle!S$2:S$126,($A16+1),FALSE))","v":0}]
[null,null,null,{"$f":"HLOOKUP(Futterwertabelle!C$2,Futterwertabelle!C$2:C$126,($A17+1),FALSE)","v":0},{"$f":"HLOOKUP(Futterwertabelle!B$2,Futterwertabelle!B$2:B$126,($A17+1),FALSE)","v":0},{"$f":"(HLOOKUP(Futterwertabelle!D$2,Futterwertabelle!D$2:D$126,($A17+1),FALSE))","v":0},null,null,null,{"$f":"(HLOOKUP(Futterwertabelle!E$2,Futterwertabelle!E$2:E$126,($A17+1),FALSE))","v":0},{"$f":"(HLOOKUP(Futterwertabelle!F$2,Futterwertabelle!F$2:F$126,($A17+1),FALSE))","v":0},{"$f":"(HLOOKUP(Futterwertabelle!G$2,Futterwertabelle!G$2:G$126,($A17+1),FALSE))","v":0},{"$f":"(HLOOKUP(Futterwertabelle!H$2,Futterwertabelle!H$2:H$126,($A17+1),FALSE))","v":0},{"$f":"(HLOOKUP(Futterwertabelle!I$2,Futterwertabelle!I$2:I$126,($A17+1),FALSE))","v":0},{"$f":"(HLOOKUP(Futterwertabelle!J$2,Futterwertabelle!J$2:J$126,($A17+1),FALSE))","v":0},{"$f":"(HLOOKUP(Futterwertabelle!K$2,Futterwertabelle!K$2:K$126,($A17+1),FALSE))","v":0},{"$f":"(HLOOKUP(Futterwertabelle!L$2,Futterwertabelle!L$2:L$126,($A17+1),FALSE))","v":0},{"$f":"(HLOOKUP(Futterwertabelle!M$2,Futterwertabelle!M$2:M$126,($A17+1),FALSE))","v":0},{"$f":"(HLOOKUP(Futterwertabelle!N$2,Futterwertabelle!N$2:N$126,($A17+1),FALSE))","v":0},{"$f":"(HLOOKUP(Futterwertabelle!O$2,Futterwertabelle!O$2:O$126,($A17+1),FALSE))","v":0},{"$f":"(HLOOKUP(Futterwertabelle!P$2,Futterwertabelle!P$2:P$126,($A17+1),FALSE))","v":0},{"$f":"(HLOOKUP(Futterwertabelle!Q$2,Futterwertabelle!Q$2:Q$126,($A17+1),FALSE))","v":0},{"$f":"(HLOOKUP(Futterwertabelle!R$2,Futterwertabelle!R$2:R$126,($A17+1),FALSE))","v":0},{"$f":"(HLOOKUP(Futterwertabelle!S$2,Futterwertabelle!S$2:S$126,($A17+1),FALSE))","v":0}]
[null,null,null,{"$f":"HLOOKUP(Futterwertabelle!C$2,Futterwertabelle!C$2:C$126,($A18+1),FALSE)","v":0},{"$f":"HLOOKUP(Futterwertabelle!B$2,Futterwertabelle!B$2:B$126,($A18+1),FALSE)","v":0},{"$f":"(HLOOKUP(Futterwertabelle!D$2,Futterwertabelle!D$2:D$126,($A18+1),FALSE))","v":0},null,null,null,{"$f":"(HLOOKUP(Futterwertabelle!E$2,Futterwertabelle!E$2:E$126,($A18+1),FALSE))","v":0},{"$f":"(HLOOKUP(Futterwertabelle!F$2,Futterwertabelle!F$2:F$126,($A18+1),FALSE))","v":0},{"$f":"(HLOOKUP(Futterwertabelle!G$2,Futterwertabelle!G$2:G$126,($A18+1),FALSE))","v":0},{"$f":"(HLOOKUP(Futterwertabelle!H$2,Futterwertabelle!H$2:H$126,($A18+1),FALSE))","v":0},{"$f":"(HLOOKUP(Futterwertabelle!I$2,Futterwertabelle!I$2:I$126,($A18+1),FALSE))","v":0},{"$f":"(HLOOKUP(Futterwertabelle!J$2,Futterwertabelle!J$2:J$126,($A18+1),FALSE))","v":0},{"$f":"(HLOOKUP(Futterwertabelle!K$2,Futterwertabelle!K$2:K$126,($A18+1),FALSE))","v":0},{"$f":"(HLOOKUP(Futterwertabelle!L$2,Futterwertabelle!L$2:L$126,($A18+1),FALSE))","v":0},{"$f":"(HLOOKUP(Futterwertabelle!M$2,Futterwertabelle!M$2:M$126,($A18+1),FALSE))","v":0},{"$f":"(HLOOKUP(Futterwertabelle!N$2,Futterwertabelle!N$2:N$126,($A18+1),FALSE))","v":0},{"$f":"(HLOOKUP(Futterwertabelle!O$2,Futterwertabelle!O$2:O$126,($A18+1),FALSE))","v":0},{"$f":"(HLOOKUP(Futterwertabelle!P$2,Futterwertabelle!P$2:P$126,($A18+1),FALSE))","v":0},{"$f":"(HLOOKUP(Futterwertabelle!Q$2,Futterwertabelle!Q$2:Q$126,($A18+1),FALSE))","v":0},{"$f":"(HLOOKUP(Futterwertabelle!R$2,Futterwertabelle!R$2:R$126,($A18+1),FALSE))","v":0},{"$f":"(HLOOKUP(Futterwertabelle!S$2,Futterwertabelle!S$2:S$126,($A18+1),FALSE))","v":0}]
[null,null,null,{"$f":"HLOOKUP(Futterwertabelle!C$2,Futterwertabelle!C$2:C$126,($A19+1),FALSE)","v":0},{"$f":"HLOOKUP(Futterwertabelle!B$2,Futterwertabelle!B$2:B$126,($A19+1),FALSE)","v":0},{"$f":"(HLOOKUP(Futterwertabelle!D$2,Futterwertabelle!D$2:D$126,($A19+1),FALSE))","v":0},null,null,null,{"$f":"(HLOOKUP(Futterwertabelle!E$2,Futterwertabelle!E$2:E$126,($A19+1),FALSE))","v":0},{"$f":"(HLOOKUP(Futterwertabelle!F$2,Futterwertabelle!F$2:F$126,($A19+1),FALSE))","v":0},{"$f":"(HLOOKUP(Futterwertabelle!G$2,Futterwertabelle!G$2:G$126,($A19+1),FALSE))","v":0},{"$f":"(HLOOKUP(Futterwertabelle!H$2,Futterwertabelle!H$2:H$126,($A19+1),FALSE))","v":0},{"$f":"(HLOOKUP(Futterwertabelle!I$2,Futterwertabelle!I$2:I$126,($A19+1),FALSE))","v":0},{"$f":"(HLOOKUP(Futterwertabelle!J$2,Futterwertabelle!J$2:J$126,($A19+1),FALSE))","v":0},{"$f":"(HLOOKUP(Futterwertabelle!K$2,Futterwertabelle!K$2:K$126,($A19+1),FALSE))","v":0},{"$f":"(HLOOKUP(Futterwertabelle!L$2,Futterwertabelle!L$2:L$126,($A19+1),FALSE))","v":0},{"$f":"(HLOOKUP(Futterwertabelle!M$2,Futterwertabelle!M$2:M$126,($A19+1),FALSE))","v":0},{"$f":"(HLOOKUP(Futterwertabelle!N$2,Futterwertabelle!N$2:N$126,($A19+1),FALSE))","v":0},{"$f":"(HLOOKUP(Futterwertabelle!O$2,Futterwertabelle!O$2:O$126,($A19+1),FALSE))","v":0},{"$f":"(HLOOKUP(Futterwertabelle!P$2,Futterwertabelle!P$2:P$126,($A19+1),FALSE))","v":0},{"$f":"(HLOOKUP(Futterwertabelle!Q$2,Futterwertabelle!Q$2:Q$126,($A19+1),FALSE))","v":0},{"$f":"(HLOOKUP(Futterwertabelle!R$2,Futterwertabelle!R$2:R$126,($A19+1),FALSE))","v":0},{"$f":"(HLOOKUP(Futterwertabelle!S$2,Futterwertabelle!S$2:S$126,($A19+1),FALSE))","v":0}]
[null,null,null,{"$f":"HLOOKUP(Futterwertabelle!C$2,Futterwertabelle!C$2:C$126,($A20+1),FALSE)","v":0},{"$f":"HLOOKUP(Futterwertabelle!B$2,Futterwertabelle!B$2:B$126,($A20+1),FALSE)","v":0},{"$f":"(HLOOKUP(Futterwertabelle!D$2,Futterwertabelle!D$2:D$126,($A20+1),FALSE))","v":0},null,null,null,{"$f":"(HLOOKUP(Futterwertabelle!E$2,Futterwertabelle!E$2:E$126,($A20+1),FALSE))","v":0},{"$f":"(HLOOKUP(Futterwertabelle!F$2,Futterwertabelle!F$2:F$126,($A20+1),FALSE))","v":0},{"$f":"(HLOOKUP(Futterwertabelle!G$2,Futterwertabelle!G$2:G$126,($A20+1),FALSE))","v":0},{"$f":"(HLOOKUP(Futterwertabelle!H$2,Futterwertabelle!H$2:H$126,($A20+1),FALSE))","v":0},{"$f":"(HLOOKUP(Futterwertabelle!I$2,Futterwertabelle!I$2:I$126,($A20+1),FALSE))","v":0},{"$f":"(HLOOKUP(Futterwertabelle!J$2,Futterwertabelle!J$2:J$126,($A20+1),FALSE))","v":0},{"$f":"(HLOOKUP(Futterwertabelle!K$2,Futterwertabelle!K$2:K$126,($A20+1),FALSE))","v":0},{"$f":"(HLOOKUP(Futterwertabelle!L$2,Futterwertabelle!L$2:L$126,($A20+1),FALSE))","v":0},{"$f":"(HLOOKUP(Futterwertabelle!M$2,Futterwertabelle!M$2:M$126,($A20+1),FALSE))","v":0},{"$f":"(HLOOKUP(Futterwertabelle!N$2,Futterwertabelle!N$2:N$126,($A20+1),FALSE))","v":0},{"$f":"(HLOOKUP(Futterwertabelle!O$2,Futterwertabelle!O$2:O$126,($A20+1),FALSE))","v":0},{"$f":"(HLOOKUP(Futterwertabelle!P$2,Futterwertabelle!P$2:P$126,($A20+1),FALSE))","v":0},{"$f":"(HLOOKUP(Futterwertabelle!Q$2,Futterwertabelle!Q$2:Q$126,($A20+1),FALSE))","v":0},{"$f":"(HLOOKUP(Futterwertabelle!R$2,Futterwertabelle!R$2:R$126,($A20+1),FALSE))","v":0},{"$f":"(HLOOKUP(Futterwertabelle!S$2,Futterwertabelle!S$2:S$126,($A20+1),FALSE))","v":0}]
[null,null,null,{"$f":"HLOOKUP(Futterwertabelle!C$2,Futterwertabelle!C$2:C$126,($A21+1),FALSE)","v":0},{"$f":"HLOOKUP(Futterwertabelle!B$2,Futterwertabelle!B$2:B$126,($A21+1),FALSE)","v":0},{"$f":"(HLOOKUP(Futterwertabelle!D$2,Futterwertabelle!D$2:D$126,($A21+1),FALSE))","v":0},null,null,null,{"$f":"(HLOOKUP(Futterwertabelle!E$2,Futterwertabelle!E$2:E$126,($A21+1),FALSE))","v":0},{"$f":"(HLOOKUP(Futterwertabelle!F$2,Futterwertabelle!F$2:F$126,($A21+1),FALSE))","v":0},{"$f":"(HLOOKUP(Futterwertabelle!G$2,Futterwertabelle!G$2:G$126,($A21+1),FALSE))","v":0},{"$f":"(HLOOKUP(Futterwertabelle!H$2,Futterwertabelle!H$2:H$126,($A21+1),FALSE))","v":0},{"$f":"(HLOOKUP(Futterwertabelle!I$2,Futterwertabelle!I$2:I$126,($A21+1),FALSE))","v":0},{"$f":"(HLOOKUP(Futterwertabelle!J$2,Futterwertabelle!J$2:J$126,($A21+1),FALSE))","v":0},{"$f":"(HLOOKUP(Futterwertabelle!K$2,Futterwertabelle!K$2:K$126,($A21+1),FALSE))","v":0},{"$f":"(HLOOKUP(Futterwertabelle!L$2,Futterwertabelle!L$2:L$126,($A21+1),FALSE))","v":0},{"$f":"(HLOOKUP(Futterwertabelle!M$2,Futterwertabelle!M$2:M$126,($A21+1),FALSE))","v":0},{"$f":"(HLOOKUP(Futterwertabelle!N$2,Futterwertabelle!N$2:N$126,($A21+1),FALSE))","v":0},{"$f":"(HLOOKUP(Futterwertabelle!O$2,Futterwertabelle!O$2:O$126,($A21+1),FALSE))","v":0},{"$f":"(HLOOKUP(Futterwertabelle!P$2,Futterwertabelle!P$2:P$126,($A21+1),FALSE))","v":0},{"$f":"(HLOOKUP(Futterwertabelle!Q$2,Futterwertabelle!Q$2:Q$126,($A21+1),FALSE))","v":0},{"$f":"(HLOOKUP(Futterwertabelle!R$2,Futterwertabelle!R$2:R$126,($A21+1),FALSE))","v":0},{"$f":"(HLOOKUP(Futterwertabelle!S$2,Futterwertabelle!S$2:S$126,($A21+1),FALSE))","v":0}]
[null,null,null,{"$f":"HLOOKUP(Futterwertabelle!C$2,Futterwertabelle!C$2:C$126,($A22+1),FALSE)","v":0},{"$f":"HLOOKUP(Futterwertabelle!B$2,Futterwertabelle!B$2:B$126,($A22+1),FALSE)","v":0},{"$f":"(HLOOKUP(Futterwertabelle!D$2,Futterwertabelle!D$2:D$126,($A22+1),FALSE))","v":0},null,null,null,{"$f":"(HLOOKUP(Futterwertabelle!E$2,Futterwertabelle!E$2:E$126,($A22+1),FALSE))","v":0},{"$f":"(HLOOKUP(Futterwertabelle!F$2,Futterwertabelle!F$2:F$126,($A22+1),FALSE))","v":0},{"$f":"(HLOOKUP(Futterwertabelle!G$2,Futterwertabelle!G$2:G$126,($A22+1),FALSE))","v":0},{"$f":"(HLOOKUP(Futterwertabelle!H$2,Futterwertabelle!H$2:H$126,($A22+1),FALSE))","v":0},{"$f":"(HLOOKUP(Futterwertabelle!I$2,Futterwertabelle!I$2:I$126,($A22+1),FALSE))","v":0},{"$f":"(HLOOKUP(Futterwertabelle!J$2,Futterwertabelle!J$2:J$126,($A22+1),FALSE))","v":0},{"$f":"(HLOOKUP(Futterwertabelle!K$2,Futterwertabelle!K$2:K$126,($A22+1),FALSE))","v":0},{"$f":"(HLOOKUP(Futterwertabelle!L$2,Futterwertabelle!L$2:L$126,($A22+1),FALSE))","v":0},{"$f":"(HLOOKUP(Futterwertabelle!M$2,Futterwertabelle!M$2:M$126,($A22+1),FALSE))","v":0},{"$f":"(HLOOKUP(Futterwertabelle!N$2,Futterwertabelle!N$2:N$126,($A22+1),FALSE))","v":0},{"$f":"(HLOOKUP(Futterwertabelle!O$2,Futterwertabelle!O$2:O$126,($A22+1),FALSE))","v":0},{"$f":"(HLOOKUP(Futterwertabelle!P$2,Futterwertabelle!P$2:P$126,($A22+1),FALSE))","v":0},{"$f":"(HLOOKUP(Futterwertabelle!Q$2,Futterwertabelle!Q$2:Q$126,($A22+1),FALSE))","v":0},{"$f":"(HLOOKUP(Futterwertabelle!R$2,Futterwertabelle!R$2:R$126,($A22+1),FALSE))","v":0},{"$f":"(HLOOKUP(Futterwertabelle!S$2,Futterwertabelle!S$2:S$126,($A22+1),FALSE))","v":0}]
[]
[null,null,null,{"$f":"SUM(D35:D52)","v":0},{"$f":"SUM(E35:E52)","v":0},{"$f":"SUM(F35:F52)","v":0},null,null,null,{"$f":"SUM(J35:J52)","v":0},0,0,0,0,0,0,0,0,0,0,0,0,0,0]
[null,null,null,{"$f":"(D80)/B23","v":{"$error":"#DIV/0!"}},{"$f":"E80/B23","v":{"$error":"#DIV/0!"}},{"$f":"F80/$B$23","v":{"$error":"#DIV/0!"}},null,null,null,{"$f":"J80/$B$23","v":{"$error":"#DIV/0!"}},{"$f":"K80/$B$23","v":{"$error":"#DIV/0!"}},{"$error":"#DIV/0!"},{"$error":"#DIV/0!"},{"$error":"#DIV/0!"},{"$error":"#DIV/0!"},{"$error":"#DIV/0!"},{"$error":"#DIV/0!"},{"$error":"#DIV/0!"},{"$error":"#DIV/0!"},{"$error":"#DIV/0!"},{"$error":"#DIV/0!"},{"$error":"#DIV/0!"},{"$error":"#DIV/0!"},{"$error":"#DIV/0!"}]
[null,null,null,{"$f":"D80/($B$23*1000)","v":{"$error":"#DIV/0!"}},{"$f":"E80/($B$23)","v":{"$error":"#DIV/0!"}},{"$f":"F80/($B$23*1000)","v":{"$error":"#DIV/0!"}},null,null,null,{"$f":"J80/($B$23*1000)","v":{"$error":"#DIV/0!"}},{"$error":"#DIV/0!"},{"$error":"#DIV/0!"},{"$error":"#DIV/0!"},{"$error":"#DIV/0!"},{"$error":"#DIV/0!"},{"$error":"#DIV/0!"},{"$error":"#DIV/0!"},{"$error":"#DIV/0!"},{"$error":"#DIV/0!"},{"$error":"#DIV/0!"},{"$f":"U81","v":{"$error":"#DIV/0!"}},{"$f":"V81","v":{"$error":"#DIV/0!"}},{"$f":"W81","v":{"$error":"#DIV/0!"}},{"$f":"X81","v":{"$error":"#DIV/0!"}}]
[null,null,null,0.88,{"$f":"E82/$D$82*$D$83","v":{"$error":"#DIV/0!"}},{"$f":"F82/$D$82*$D$83","v":{"$error":"#DIV/0!"}},null,null,{"$error":"#DIV/0!"},{"$error":"#DIV/0!"},{"$error":"#DIV/0!"},{"$error":"#DIV/0!"},{"$error":"#DIV/0!"},{"$error":"#DIV/0!"},{"$error":"#DIV/0!"},{"$error":"#DIV/0!"},{"$error":"#DIV/0!"},{"$error":"#DIV/0!"},{"$error":"#DIV/0!"},{"$error":"#DIV/0!"},{"$error":"#DIV/0!"},{"$error":"#DIV/0!"},{"$error":"#DIV/0!"}]
[null,null,null,null,{"$f":"HLOOKUP(Bedarf!B12,Bedarf!B12:B31,($D2+2),FALSE)","v":10.6},null,null,null,null,{"$f":"HLOOKUP(Bedarf!D12,Bedarf!D12:D31,($D2+2),FALSE)","v":0.15},null,null,{"$f":"HLOOKUP(Bedarf!P$12,Bedarf!P$12:P$31,($D$2+2),FALSE)","v":0.03},{"$f":"HLOOKUP(Bedarf!R$12,Bedarf!R$12:R$31,($D$2+2),FALSE)","v":5.0000000000000001E-3},{"$f":"HLOOKUP(Bedarf!T$12,Bedarf!T$12:T$31,($D$2+2),FALSE)","v":1.1999999999999999E-3},{"$f":"HLOOKUP(Bedarf!F$12,Bedarf!F$12:F$31,($D$2+2),FALSE)","v":3.2000000000000002E-3},{"$f":"HLOOKUP(Bedarf!H$12,Bedarf!H$12:H$31,($D$2+2),FALSE)","v":6.0000000000000001E-3},{"$f":"HLOOKUP(Bedarf!J$12,Bedarf!J$12:J$31,($D$2+2),FALSE)","v":6.4999999999999997E-3},{"$f":"HLOOKUP(Bedarf!L$12,Bedarf!L$12:L$31,($D$2+2),FALSE)","v":4.3E-3},{"$f":"HLOOKUP(Bedarf!N12,Bedarf!N$12:N$31,($D$2+2),FALSE)","v":1.4E-3},{"$f":"HLOOKUP(Bedarf!V$12,Bedarf!V$12:V$31,($D$2+2),FALSE)","v":17600},{"$f":"HLOOKUP(Bedarf!X$12,Bedarf!X$12:X$31,($D$2+2),FALSE)","v":2500},{"$f":"HLOOKUP(Bedarf!Z$12,Bedarf!Z$12:Z$31,($D$2+2),FALSE)","v":80}]
[null,null,null,null,{"$f":"HLOOKUP(Bedarf!C12,Bedarf!C12:C31,($D2+2),FALSE)","v":11.2},null,null,null,null,{"$f":"HLOOKUP(Bedarf!E12,Bedarf!E12:E31,($D2+2),FALSE)","v":0.16500000000000001},null,null,{"$f":"HLOOKUP(Bedarf!Q$12,Bedarf!Q$12:Q$31,($D$2+2),FALSE)","v":3.5000000000000003E-2},{"$f":"HLOOKUP(Bedarf!S$12,Bedarf!S$12:S$31,($D$2+2),FALSE)","v":8.0000000000000002E-3},{"$f":"HLOOKUP(Bedarf!U$12,Bedarf!U$12:U$31,($D$2+2),FALSE)","v":2.5000000000000001E-3},{"$f":"HLOOKUP(Bedarf!G$12,Bedarf!G$12:G$31,($D$2+2),FALSE)","v":3.5000000000000001E-3},{"$f":"HLOOKUP(Bedarf!I$12,Bedarf!I$12:I$31,($D$2+2),FALSE)","v":6.4999999999999997E-3},{"$f":"HLOOKUP(Bedarf!K$12,Bedarf!K$12:K$31,($D$2+2),FALSE)","v":7.3000000000000001E-3},{"$f":"HLOOKUP(Bedarf!M$12,Bedarf!M$12:M$31,($D$2+2),FALSE)","v":5.1999999999999998E-3},{"$f":"HLOOKUP(Bedarf!O$12,Bedarf!O$12:O$31,($D$2+2),FALSE)","v":1.9E-3},{"$f":"HLOOKUP(Bedarf!W$12,Bedarf!W$12:W$31,($D$2+2),FALSE)","v":18000},{"$f":"HLOOKUP(Bedarf!Y$12,Bedarf!Y$12:Y$31,($D$2+2),FALSE)","v":2700},{"$f":"HLOOKUP(Bedarf!AA$12,Bedarf!AA$12:AA$31,($D$2+2),FALSE)","v":80}]

{"sheet":"Bedarf","index":2,"n_rows":39,"n_cols":27,"rows_kept":39,"cut":false,"hidden":false,"merged":[]}
[]
[]
[]
[]
[]
[]
[]
[]
[]
[]
["Bezeichnung","MJ ME (Gefl.)",null,"Rohprotein (XP)",null,"Methionin",null,"Met.+Cystein",null,"Lysin","Lysin","Threonin",null,"Tryptophan",null,"Ca",null,"Phosphor",null,"Natrium",null,"Vitamin A IE/kg",null,"Vitamin D3 IE/kg ",null,"Vitamin E mg/kg"]
[null,"MJ ME","MJ ME","XP","XP","Met","Met","Met+Cys","Met+Cys","Lysin","Lysin","Thr","Thr","Trp","Trp","Ca","Ca","P","P","Na","Na","Vit A IE/kg","Vit A IE/kg","Vit D3 IE/kg ","Vit D3 IE/kg ","Vit E mg/kg","Vit E mg/kg"]
[null,"von","bis","von","bis","von","bis","von","bis","von","bis","von","bis","von ","bis","von","bis","von","bis","von","bis","von","bis","von","bis","von","bis"]
["Legehennen I",10.6,{"$f":"B14","v":10.6},0.16500000000000001,{"$f":"D14","v":0.16500000000000001},2.8E-3,{"$f":"F14","v":2.8E-3},{"$f":"(J14/100)*87","v":4.8719999999999996E-3},{"$f":"H14","v":4.8719999999999996E-3},{"$f":"F14*2","v":5.5999999999999999E-3},{"$f":"J14","v":5.5999999999999999E-3},null,null,null,null,3.5000000000000003E-2,{"$f":"P14","v":3.5000000000000003E-2},6.4999999999999997E-3,{"$f":"R14","v":6.4999999999999997E-3},1.8E-3,{"$f":"T14","v":1.8E-3},6000,{"$f":"V14","v":6000},750,{"$f":"X14","v":750},10,{"$f":"Z14","v":10}]
["Legehennen II",10,10,0.16,0.16,2.5000000000000001E-3,2.5000000000000001E-3,{"$f":"(J15/100)*87","v":4.3500000000000006E-3},4.3500000000000006E-3,{"$f":"F15*2","v":5.0000000000000001E-3},5.0000000000000001E-3,null,null,null,null,0.04,0.04,5.3E-3,5.3E-3,1.8E-3,1.8E-3,6000,6000,750,750,10,10]
["Hühnerküken (1.+2.Woche)",11.4,11.4,0.22,0.22,4.4999999999999997E-3,4.4999999999999997E-3,8.5000000000000006E-3,8.5000000000000006E-3,1.0999999999999999E-2,1.0999999999999999E-2,6.3E-3,{"$f":"L16","v":6.3E-3},1.6000000000000001E-3,{"$f":"N16","v":1.6000000000000001E-3},8.9999999999999993E-3,1.2E-2,7.0000000000000001E-3,7.0000000000000001E-3,1.1999999999999999E-3,2.5000000000000001E-3,13400,13400,750,750,60,60]
["Hühnerküken  ",11,11,0.17,0.17,3.5000000000000001E-3,3.5000000000000001E-3,{"$f":"(J17/100)*87","v":6.0900000000000008E-3},6.0900000000000008E-3,{"$f":"F17*2","v":7.0000000000000001E-3},7.0000000000000001E-3,6.3E-3,6.3E-3,1.1999999999999999E-3,{"$f":"N17","v":1.1999999999999999E-3},7.0000000000000001E-3,1.2E-2,6.4999999999999997E-3,6.4999999999999997E-3,1E-3,2.5000000000000001E-3,4000,4000,500,500,10,10]
["Junghennen",10.6,10.6,0.15,0.15,3.0000000000000001E-3,3.0000000000000001E-3,6.0000000000000001E-3,6.0000000000000001E-3,6.4999999999999997E-3,6.4999999999999997E-3,3.2000000000000002E-3,3.2000000000000002E-3,1E-3,1E-3,5.4999999999999997E-3,1.2E-2,5.4999999999999997E-3,5.4999999999999997E-3,1E-3,2.5000000000000001E-3,4000,4000,500,500,10,10]
["Legehennen",10.6,10.6,0.15,0.15,3.0000000000000001E-3,3.0000000000000001E-3,5.7999999999999996E-3,null,6.3E-3,null,4.4999999999999997E-3,null,1.5E-3]
["Zuchthennen",10.6,10.6,0.15,0.15,3.0000000000000001E-3,3.0000000000000001E-3,6.0000000000000001E-3,6.0000000000000001E-3,6.4999999999999997E-3,6.4999999999999997E-3,4.3E-3,4.3E-3,1.4E-3,1.4E-3,2.3E-2,0.04,5.0000000000000001E-3,8.0000000000000002E-3,1.1999999999999999E-3,2.5000000000000001E-3,8000,8000,1000,1000,20,20]
["Küken 1-6 Wk",11,11,null,null,3.5999999999999999E-3,3.5999999999999999E-3,6.6E-3,6.6E-3,8.2000000000000007E-3,8.2000000000000007E-3,6.3E-3,{"$f":"L21","v":6.3E-3},1.6000000000000001E-3,{"$f":"N21","v":1.6000000000000001E-3}]
["Küken 7-12 Wk",10.6,10.6,null,null,3.0999999999999999E-3,3.0999999999999999E-3,5.4000000000000003E-3,5.4000000000000003E-3,6.4000000000000003E-3,6.4000000000000003E-3,5.1000000000000004E-3,{"$f":"L22","v":5.1000000000000004E-3},1.1999999999999999E-3,{"$f":"N22","v":1.1999999999999999E-3}]
["Junghennen 13-18 Wk",10.6,10.6,null,null,2.3999999999999998E-3,2.3999999999999998E-3,4.5999999999999999E-3,4.5999999999999999E-3,5.7999999999999996E-3,5.7999999999999996E-3,3.2000000000000002E-3,3.2000000000000002E-3,1E-3,1E-3]
["Masthühnerküken I",12,12,0.22,0.22,4.4999999999999997E-3,4.4999999999999997E-3,{"$f":"(J24/100)*87","v":7.8300000000000002E-3},7.8300000000000002E-3,{"$f":"F24*2","v":8.9999999999999993E-3},8.9999999999999993E-3,null,null,null,null,0.01,0.01,6.0000000000000001E-3,6.0000000000000001E-3,1.8E-3,1.8E-3,6000,6000,750,750]
["Masthühnerküken II",12,12,0.18,0.18,3.5999999999999999E-3,3.5999999999999999E-3,{"$f":"(J25/100)*87","v":6.2640000000000005E-3},6.2640000000000005E-3,{"$f":"F25*2","v":7.1999999999999998E-3},7.1999999999999998E-3,null,null,null,null,0.01,0.01,6.0000000000000001E-3,6.0000000000000001E-3,1.8E-3,1.8E-3,6000,6000,750,750]
["Putenküken (1.-8.Woche)",12,12,0.28000000000000003,0.28000000000000003,5.4999999999999997E-3,5.4999999999999997E-3,{"$f":"(J26/100)*87","v":9.5699999999999986E-3},9.5699999999999986E-3,{"$f":"F26*2","v":1.0999999999999999E-2},1.0999999999999999E-2,null,null,null,null,1.4999999999999999E-2,1.4999999999999999E-2,8.0000000000000002E-3,8.0000000000000002E-3,1.1999999999999999E-3,1.1999999999999999E-3,10000,10000,2000,2000,15,15]
["Legehennenfutter",10.9,11.2,0.16500000000000001,0.16800000000000001,3.5000000000000001E-3,3.8E-3,6.1000000000000004E-3,7.0000000000000001E-3,6.4999999999999997E-3,8.5000000000000006E-3,4.3E-3,6.4999999999999997E-3,1.4E-3,3.5000000000000001E-3,3.5999999999999997E-2,3.7999999999999999E-2,5.0000000000000001E-3,8.0000000000000002E-3,1.1999999999999999E-3,2.5000000000000001E-3,17600,18000,2500,2700,80,80]
["Zuchthennenfutter",10.6,11.2,0.15,0.16500000000000001,3.2000000000000002E-3,3.5000000000000001E-3,6.0000000000000001E-3,6.4999999999999997E-3,6.4999999999999997E-3,7.3000000000000001E-3,4.3E-3,5.1999999999999998E-3,1.4E-3,1.9E-3,0.03,3.5000000000000003E-2,5.0000000000000001E-3,8.0000000000000002E-3,1.1999999999999999E-3,2.5000000000000001E-3,17600,18000,2500,2700,80,80]
[]
[]
[]
[]
[]
[]
[]
[]
["Legehennen",{"$f":"((480+Bedarf!B10+(15-Bedarf!B4)*7)*I4+9.6*J4+23*Bedarf!B8)/1000","v":0},{"$f":"3.1*I4+0.17*Bedarf!B8+0.25*Bedarf!J4","v":0},{"$f":"G34*Bedarf!$B$5+(G32/G33)*$J$4","v":{"$error":"#DIV/0!"}},{"$f":"H34*Bedarf!$B$5+(H32/H33)*$J$4","v":{"$error":"#DIV/0!"}},{"$f":"I34*Bedarf!$B$5+(I32/I33)*$J$4","v":{"$error":"#DIV/0!"}},{"$f":"J34*Bedarf!$B$5+(J32/J33)*$J$4","v":{"$error":"#DIV/0!"}},{"$f":"(0.1*Bedarf!$B$5+10*Bedarf!$B$8/1000+Bedarf!$J$4/1000*33)/0.55","v":0},{"$f":"(0.083*Bedarf!$B$5+5.5*Bedarf!$B$8/1000+Bedarf!$J$4/1000*1.7)/0.7","v":0},{"$f":"(0.013*Bedarf!$B$5+1.3*Bedarf!$B$8/1000+Bedarf!$J$4/1000*1.2)/0.8","v":0},4500,450,6]
[null,{"$f":"B37*$K$5","v":0},0,{"$error":"#DIV/0!"},{"$error":"#DIV/0!"},{"$error":"#DIV/0!"},{"$error":"#DIV/0!"},0,0,0,0,0,0]
[null,null,{"$f":"C37/$B$37","v":{"$error":"#DIV/0!"}},{"$f":"D37/$B$37/1000","v":{"$error":"#DIV/0!"}},{"$f":"E37/$B$37/1000","v":{"$error":"#DIV/0!"}},{"$f":"F37/$B$37/1000","v":{"$error":"#DIV/0!"}},{"$f":"G37/$B$37/1000","v":{"$error":"#DIV/0!"}},{"$f":"H37/$B$37","v":{"$error":"#DIV/0!"}},{"$f":"I37/$B$37","v":{"$error":"#DIV/0!"}},{"$f":"J37/$B$37","v":{"$error":"#DIV/0!"}}]

{"sheet":"Futterwertabelle","index":3,"n_rows":126,"n_cols":21,"rows_kept":126,"cut":false,"hidden":false,"merged":[]}
[]
["Futtermittel","Energie MJ ME je kg","Trockensubstanz","Rohasche ","Rohprotein","Rohfett","Rohfaser","Ca","P","Na","Methionin","M+C","Lysin","Thr","Try","Vit. A","Vit. D3","Vit. E","Preis €/kg","Maximalgehalt","Küken"]
["< bitte wählen >"]
["Ackerbohne               ",10.199999999999999,870,33,259.99,14,78,1.4,4.2,0.2,1.8,5.3,16.7,9.1,2.2999999999999998,null,null,null,0.6,0.05,")* 15% Küken"]
["Backabfälle (Keks)       ",16,920,20,106,127,16,0.1,2.2999999999999998,10,1.7,3.8,2.7,3.1,1.1000000000000001,null,null,null,null,0.05]
["Baumwollextraktionsschrot",6.57,900,60.3,402,15,133,2.1,10.8,0.45,6.42,13.22,16.46,12.84,4.82,null,null,null,null,0,")* 3% Küken"]
["Bierhefe (getrocknet)",12.4,930,30,470,26,2,4,11,2,8,12.87,30,14,5.22,null,null,null,1.2050000000000001,0.08,"Futterhefe"]
["Blutmehl                 ",13.08,920,39,890,9,11,1.3,1.6,6.6,9.1999999999999993,21.7,79.599999999999994,38.5,14.2,null,null,null,null,0.05]
["Brotabfälle              ",9.1,630,16,72,20,8,0.6,1.6,6,0.8,1.7,2.2000000000000002,2.1,0.6,null,null,null,null,0.05]
["Bruchreis (Reis)",14.7,870,6.9,77,8.6999999999999993,2.8,0.5,2.1,0.09,2.11,3.91,2.52,2.54,0.96,null,null,null,0.94199999999999995,0.3]
["Citronensäure            ",0,900,800,0,0,0,0,0,0,0,0,0,0,0,null,null,null,null,"*"]
["Dicalciumphosphat",0,959,818,0,0,0,249.8,185.7,0.68,0,0,0,0,0,null,null,null,null,"*"]
["Dinkel (Korn)",12.7,870,26,118,17.2,123.6,0.5,3.7,0.02,1.75,4.6500000000000004,3.23,3.45,1.08,null,null,null,null,0.15,")* 5-10% Küken"]
["Dinkelspelzen",1,900,54.9,30.4,10.199999999999999,416.9,0.7,2,0.03,0.49,1.24,1.27,1.1399999999999999,0.25,null,null,null,null,0.05]
["Erbse                    ",11.4,870,33,209,13,59,0.8,4.2,0.2,2,5.2,15,7.8,2,null,null,null,0.28000000000000003,0.2,")* 30% Weißblühende Sorten"]
["Erdnussextraktionsschrot",9.81,890,54.3,510,16.899999999999999,65.900000000000006,1.3,6.4,0.36,5.18,12.76,16.95,13.66,4.97,null,null,null,null,0]
["Erdnusskuchen",11.72,920,43.1,508.1,71.8,60.4,1.4,6.1,0.09,5.17,12.72,16.89,13.61,4.96,null,null,null,null,0.1,")* 5% Küken"]
["Federmehl (hydrolysiert)",12.9,930,20.9,806.5,70.7,8.9,5,3.4,1,8.9700000000000006,56.67,18.41,38.159999999999997,5.5,null,null,null,null,0.03]
["Fischmehl 64%Rp          ",13.26,920,179,634.79999999999995,94.8,4.5999999999999996,28.9,22.5,11.59,18.579999999999998,24.56,46.44,26.45,6.06,null,null,null,2.2799999999999998,0.08]
["Fischmehl 70%RP          ",14.27,920,124.6,705,99.9,2.5,20.5,20,8.41,20.64,27.24,51.6,29.39,6.74,null,null,null,null,0.08]
["Fleischknochenmehl",7.78,950,414,433.3,88.5,5.2,149.19999999999999,71.7,6.08,6.84,7.67,21.56,15.79,3.31,null,null,null,null,0.03]
["Fleischmehl",13.47,950,149.30000000000001,614.70000000000005,113.1,26.3,39.9,21.4,7.32,9.7100000000000009,10.88,30.59,22.39,4.6900000000000004,null,null,null,null,0.05]
["Gehaltsrüben             ",1.3,150,15,13,1,10,0.4,0.4,0.6,0.4,0.5,0.4,0.3,0.1,null,null,null,null,0.1,")* 0% Küken"]
["Gerste            ",11.4,870,24,106,20,50,0.6,3.6,0.7,2,4.2,3.8,3.6,1.3,null,null,null,0.2,0.4,")* 10% Küken"]
["Getreideschlempe",12,920,53.7,351.5,45.7,66.3,1,8.6,4.6900000000000004,5.64,11.74,6.37,10.08,3.56,null,null,null,null,0.15,")* 5% Küken"]
["Grasmehl",5.14,900,114,179.6,30.3,183.6,8.3000000000000007,3.4,0.18,2.86,5.12,7.13,7.14,2.9,null,null,null,null,0.05,")* 10% Junghennen"]
["Grünfutter 20%Rfa        ",0.7,160,16,30,6,32,1.1000000000000001,0.6,0.1,0.6,1.1000000000000001,1.5,1.2,0.4,null,null,null,null,0.05,")* 10% Junghennen"]
["Hafer                    ",10.46,870,25.6,103.9,45,98,1,3,0.3,1.8,4.9000000000000004,4.5999999999999996,3.7,1.3,null,null,null,0.26250000000000001,0.2,")* 10% Küken 20% Junghennen"]
["Haferflocken",14.01,890,19.2,134.69999999999999,62.8,12.6,0.5,4.5999999999999996,0.03,2.0499999999999998,6.44,5.31,4.57,1.59,null,null,null,{"$f":"15.5/25","v":0.62},0,")* Energie"]
["Haferfuttermehl          ",13.3,910,24,138,73,54,1,5.2,0.1,1,4.5999999999999996,5.8,4.5,2.1,null,null,null,null,0.1,")* 0% Küken"]
["Haferschälkleie          ",4.7,910,53,68,30,230,0.8,2,0.2,0.4,2.2999999999999998,2.7,2.5,1,null,null,null,null,0.05,")* 0% Küken"]
["Heu                      ",2.4,860,80,100,24,280,7,2.5,0.2,1.4,2.5,4,4.4000000000000004,0,null,null,null,null,0]
["Kalkgrit (Perlkalk)",0,1000,1000,0,0,0,360,0,0,0,0,0,0,0,null,null,null,0.28000000000000003,"*"]
["Karotten",1.5,120,12.1,11.5,1.8,10.9,0.4,0.4,0.42,0.18,0.36,0.84,0.44,0.1,null,null,null,{"$f":"5.5/25","v":0.22},0]
["Karottenmehl (trocken)",12,960,96,96,14.4,87.2,3.2,3.2,3.36,1.44,2.88,6.72,3.52,0.8,null,null,null,{"$f":"55/25","v":2.2000000000000002},0]
["Kartoffelabfälle(Pommes) ",0.2,129,9,14,0,4,0,0,0,0.24,0,0,0,0]
["Kartoffeleiweiß          ",12.1,910,29,740,15,7,0.6,4.5999999999999996,0,17.3,29,58,43,10.199999999999999,null,null,null,null,0.05]
["Kartoffelmus             ",1.7,153.5,11,21.3,1.5,10.6,0.3,0.4,-1.0000000000000001E-30,0.28999999999999998,0.6,1.2,-1.0000000000000001E-30,-1.0000000000000001E-30]
["Kartoffeln gedämpft      ",3.1,220,14,21,1,6,0.1,0.6,0.1,0.34,0.7,1.1000000000000001,0.9,0.3]
["Kartoffelpülpe           ",0.8,100,4,5,0.55600000000000005,20.556000000000001,5.6000000000000001E-2,0.27800000000000002,0,0.1,0.16700000000000001,0.27800000000000002,0.222,5.6000000000000001E-2]
["Kartoffelschalen         ",0.2,110,-1.0000000000000001E-30,12,-1.0000000000000001E-30,5,0,0.3,0.1,0.25,0.4,0.6,0.5,0.2]
["Kartoffelschnitzel       ",12.4,880,51,80,2,26,0.4,2.4,0.2,1.8,2.1,2.8,2.7,-1.0000000000000001E-30]
["Kartoffelstärke          ",13.7,830,4,2,0,4,0,0,0,0,0,0,0,0]
["kohlens.Futterkalk       ",0,950,950,0,0,0,380,0,0,0,0,0,0,0,null,null,null,0.2,"*"]
["Kürbiskernkuchen         ",11.6,900,-1.0000000000000001E-30,583,76,25,0.9,21,0.3,12,21,24.5,18.100000000000001,5]
["Lebertran",38.409999999999997,999,1,0,998,0,0,0,0,0,0,0,0,0,1000000,132000,200,null,"*"]
["Leinextraktionsschrot",5.82,900,60.2,294.89999999999998,34.9,85.8,4.0999999999999996,8.1,0.99,5.44,11.3,11.43,10.85,4.5199999999999996,null,null,null,0.52,0.03,")* 2% Küken"]
["Leinkuchen",10.6,900,55,303.8,97,84.7,3.9,8.3000000000000007,0.46,5.61,11.41,11.77,11.18,4.66,null,null,null,0.52,0.03,")* 2% Küken"]
["Leinsamen",14.44,920,37.1,207.3,396.3,75.599999999999994,2.6,5.6,0.36,4.1100000000000003,8.0399999999999991,8.01,7.55,3.34,null,null,null,null,0.05]
["Leinöl",34.299999999999997,1000,0,0,1000,0,0,0,0,0,0,0,0,0,null,null,null,null,0.03,")* 2% Küken"]
["Luzernegrünmehl          ",4.2,880,103,170,31,220,8,3.4,0.5,2.2000000000000002,4.3,7.4,7,2.4,null,null,null,0.4,0.1,")* 5% Küken"]
["Lysin HCL EURO 80%ig     ",14.6,1000,194,944,0,0,0,0,0,0,0,780.03,0,0,null,null,null,null,"*"]
["Magermilch (8,6%TS)      ",1,86,7.1669999999999998,31.353999999999999,0.44800000000000001,0,1.165,0.90500000000000003,0.46600000000000003,0.9,1.075,2.4460000000000002,1.478,0.47499999999999998,null,null,null,null,0]
["Magermilchpulver         ",11.5,941,80,343,5,0,13,10.1,5.2,9.9,11.4,26.5,15.3,4.7,null,null,null,null,0.04,")* 3% Küken"]
["Mais                     ",13,870,15,78,40,23,0.3,3.5,0.2,1.9,3,2.2000000000000002,2.7,0.5,null,null,null,0.26,0.5,")* 40% Küken"]
["Maisfuttermehl           ",10.6,890,27,105,66,53,0.7,4.4000000000000004,0.5,1.3,3.4,2.4,0,0.7,null,null,null,null,0.05]
["Maiskeimex. (Stärkeind.) ",11.4,890,38,230,20,84,0.4,6.7,0.8,4.0999999999999996,9.8000000000000007,9.1,9.1,2.1,null,null,null,null,0.05]
["Maiskeimkuchen (Mühle)   ",10.8,910,33,121,50,68,0.6,6.3,0.3,2.2000000000000002,4.7,5,5,1.7,null,null,null,null,0.05]
["Maiskeimkuchen (Stärke)  ",11.1,920,32,206,57,92,0.6,6.4,0.3,3,7.8,8.4,7.9,2.9,null,null,null,null,0.05]
["Maiskleber               ",13.8,900,18,638,46,12,0.8,3.7,0.5,14.7,26.6,10.8,21.8,3.3,null,null,null,null,0.2,")* 15% Küken"]
["Maiskleberfutter 23% Rp  ",8.1,890,53,232,36,80,1.3,8.4,2.4,3.9,9.6,7,8.3000000000000007,1.3,null,null,null,null,0.05,")* 3% Küken"]
["Maiskolbensilage o. Lieschbl.",9,610,9.8000000000000007,57.7,28.5,20,0.1,2,0.03,1.2,2.62,1.68,1.94,0.41,null,null,null,null,0.2,")* 10% Küken"]
["Maniokmehl/-schn. Typ 55 ",11,880,51,23,6,48,1.6,0.7,0.2,0.3,0.5,1.2,0.9,0.2,null,null,null,null,0.1]
["Maniokmehl/-schnitzel    ",12,880,33,23,5,28,1.4,1,0.4,0.3,0.5,1.1000000000000001,0.9,0.2,null,null,null,null,0.05]
["Massenrüben              ",1,110,14,10,1,9,0.3,0.3,0.4,0.4,0.4,0.4,0.2,0.1,null,null,null,null,0]
["Melasse                  ",7.9,770,73,99,2,4,4.2,0.2,5.6,1.6,2.9,2.5,5.0999999999999996,0.8,null,null,null,null,0.02]
["Methionin DL             ",15.2,995,995,980,0,0,0,0,0,980,980,0,0,0,null,null,null,null,"*"]
["Milocorn (Sorghumhirse)",13.62,880,15.1,80.900000000000006,29.5,17.2,0.4,3.1,0.09,1.35,2.79,2.02,2.7,0.92,null,null,null,null,0.2,")* 10% Küken"]
["Molkepulver              ",10,920,100,141.54,14.153,0,8.4949999999999992,7.0839999999999996,6.3630000000000004,2.29,4.2469999999999999,7.0839999999999996,7.0839999999999996,2.1160000000000001,null,null,null,1.2,0]
["Molkesüßpulver           ",11.6,960,82,127,11,0,7.9,8.1999999999999993,6.2,2.3199999999999998,4.3,9.3000000000000007,7.4,1.9,null,null,null,null,0]
["Monocalciumphosphat      ",0,950,950,0,0,0,160,229,0,0,0,0,0,0,null,null,null,1.5,"*"]
["Muschelschalen (Austernsch.)",0,996,955.5,13,0,0,345.1,0.3,5.48,0,0,0,0,0,null,null,null,null,"*"]
["Natriumbicarbonat",0,1000,1000,0,0,0,0,0,270,0,0,0,0,0,null,null,null,null,"*"]
["Natriumchlorid (Viehsalz)",0,990,990,0,0,0,0,0,386.1,0,0,0,0,0,null,null,null,null,"*"]
["Palmöl",33.42,999,0,0,999,0,0,0,0,0,0,0,0,0,null,null,null,null,0.05]
["Quarzgrit",0,1000,1000,0,0,0,0,0,0,0,0,0,0,0,null,null,null,null,"*"]
["Raps-Extr.-Schrot (00)   ",7.2,880,70,330,35,120,6,12,0.2,7.2,15,19,14.3,5,null,null,null,0.28999999999999998,"10% (0% Braunleger)",")* 15% Küken"]
["Rapskuchen   ",9.41,910,70,320.8,91.6,101.3,7.3,11.4,0.11,5.64,13.77,18.329999999999998,14.52,4.22,null,null,null,null,0.05,")* 10% Küken"]
["Rapssamen",20.36,950,40.9,19.600000000000001,451.7,79.599999999999994,4.62,7.27,0.1,4.26,9.57,12.27,8.44,2.73,null,null,null,null,0.05]
["Rapsöl                   ",34.200000000000003,999,0,0,998,0,0,0,0,0,0,0,0,0,null,null,350,0.95,0.05]
["Reis ungeschält          ",12.2,880,57,81,20,95,0.5,2.4,0.3,1.7,3.2,2.9,3,0.9,null,null,null,null,0.3]
["Reiskleie-Ricebran       ",6.5,880,0,124.08,132.88,112.64,0.8,17,0.2,1.75,3.2559999999999998,4.7519999999999998,-1.0000000000000001E-30,0.96799999999999997]
["Rispenhirse",12.62,880,26.2,109.3,38.6,88.6,0.4,3.1,0.09,3.02,4.8099999999999996,1.72,3.24,1.55,null,null,null,null,0.2,")* 5% Küken"]
["Roggen                   ",12,870,19,98,16,24,0.8,2.9,0.2,1.9,4.3,4,3.5,0.9,null,null,null,null,0.1,")* 0% Küken"]
["Roggenfuttermehl         ",10.3,880,32,148,30,33,1.1000000000000001,8.1,0.2,2.1,4.7,5.3,5.7,0.9,null,null,null,null,0.1,")* 5% Küken"]
["Roggengrießkleie         ",7.6,880,47,144,33,57,1.5,9.9,0.7,2,4.5999999999999996,5.2,5.6,0.9]
["Roggenkleie              ",6.4,880,53,143,32,73,1.5,10,0.7,2,3.4,6.7,6.5,1.1000000000000001,null,null,null,null,0.1,")* 0% Küken"]
["Sojabohnen (extrudiert)",14.58,950,54.2,390.1,200,56.2,2.2999999999999998,6.2,0.09,5.51,11.61,24.12,15.19,5.09,null,null,null,null,0.2]
["Sojaextraktionsschrot 43         ",8.82,880,65.3,432,20.3,83,3.4,6.4,0.35,5.98,12.5,26.8,16.8,5.6,null,null,null,0.55000000000000004,0.25]
["Sojaextraktionsschrot 48 HP             ",9.44,880,62.9,483.8,19.8,34.299999999999997,2.5,6.2,0.09,6.83,14.39,29.91,18.899999999999999,6.32,null,null,null,0.55000000000000004,0.25]
["Sonnenblumenöl                   ",34.200000000000003,999,0,0,998,0,0,0,0,0,0,0,0,0,null,null,450,1.0900000000000001,0.05]
["Sonnenblumenex. (entschält)",6.89,900,70.8,384.7,23.9,136.5,3.7,10.8,0.3,8.75,15.71,14.62,13.98,5.05,null,null,null,null,0.1,")* 5% Küken"]
["Sonnenblumenextraktionssch.",4.5999999999999996,900,45,229.5,13.5,333,4.3,7.7,0.27,5.22,9.3699999999999992,8.7200000000000006,8.34,3.01,null,null,null,null,0.1,")* 5% Küken"]
["Sonnenblumensamen       ",13.5,880,-1.0000000000000001E-30,169,316,215,2.5,3.3,0.2,2.4,6.2,6.9,5.7,2,null,null,null,0.4,0.05,")* 0% Küken"]
["Stoppelrüben       ",0.8,110,12.1,18.3,0.9,13.2,2.1,0.6,0.3,0.18,0.44,0.61,0.52,0.15,null,null,null,null,0]
["Strohmehl (aufgeschlossen)                    ",5.3,900,68,33.5,10.5,389.5,3.2,0.9,8.98,0.36,1,1.02,1.1599999999999999,0.3,null,null,null,null,0.05,")* 2% Küken"]
["Süßlupinen               ",8.8800000000000008,870,34.6,344.6,81.8,110.3,2.1,4.7,0.09,2.4700000000000002,7.73,15.9,12.19,2.58,null,null,null,0.4,0.1,")* 0% Küken"]
["Threonin",13.51,1000,0,735,0,0,0,0,0,0,0,0,979.98,0,null,null,null,null,"*"]
["Triticale                ",12.7,870,20,120,16,23,0.5,3,0.2,1.6,4.9000000000000004,4.2,3.9,1.2,null,null,null,0.19,0.3,")* 10% Küken"]
["Tryptophan",22.8,1000,0,857,0,0,0,0,0,0,0,0,0,979.98,null,null,null,null,"*"]
["Viehsalz",0,950,900,0,0,0,0,0,390,0,0,0,0,0,null,null,null,2,"*"]
["Vollmilch                ",2.7,135,7,35,44,0,1.2,1,0.4,0.7,1.4,2.7,1.7,0.5,null,null,null,null,0]
["Vollmilch trocken        ",18,900,46.667000000000002,233.33,293.33,0,8,6.6669999999999998,2.6669999999999998,4.8,9.3330000000000002,18,11.333,3.3330000000000002,null,null,null,null,0]
["Weizen                   ",12.78,870,17,120,17,25,0.6,3.3,0.1,1.8,4.5999999999999996,3.4,3.5,1.6,null,null,null,0.21,"o.B.",")* 30% Küken"]
["Weizenkeimkuchen",8.93,940,53.6,286.7,49.8,29.1,0,0,0,5.05,9.6,16.55,10.29,2.94,null,null,null,null,0.05]
["Weizenflocken            ",12.7,870,17,120,17,25,0.6,3.3,0.1,1.2,4.5999999999999996,3.4,3.5,1.6]
["Weizenfuttermehl         ",10.3,880,38,167,44,46,1.1000000000000001,7.1,0.3,2.7,6.2,5.9,5.3,2.1]
["Weizengrießkleie         ",8.1999999999999993,880,48,155,44,83,1.2,9,0.5,2.6,6.2,6.8,5.7,2.2999999999999998]
["Weizenkleie              ",6.5,880,57,141,38,118,1.6,11.4,0.5,2.1,5.3,5.8,4.7,2,null,null,null,0.32,0.15,")* 5% Küken"]
["Weizenkleber ",14.3,930,9.6,800.4,25,3.6,1,2.5,0.1,12.29,28.73,11.99,19.39,7.25,null,null,null,4.05,0.1]
["Weizenkleberfutter",10.3,900,51,182,46,73,1.3,8,2.4,2.5,5.9,5.2,5.2,2.2000000000000002]
["Weizennachmehl           ",12.4,880,33,170,45,29,0.8,6.5,0.1,2.9,6.8,6,5.6,2.2000000000000002,null,null,null,null,0.15]
["Weizenschlempe           ",8,880,47,330,63,94,3.14,4.71,0.2,4.71,9.42,9.42,11,0]
["Zitrustrester (getrocknet)",8.9,900,56.7,64.8,30.6,126,17,1.2,1.41,0.65,1.49,1.68,1.88,0.52,null,null,null,null,0.03]
["Krausland Bierhefe",13.2,880,70,480,10,11,0,15,0,4,4,0,0,0,0,0,0,1.84]
["Krausland Geflügelmineral",1.3,880,0,85,0,0,168,120,50,60,60,25,0,0,500000,100000,1500,2]
["Krausland Kartoffeleiweiß",13.2,880,{"$f":"D37","v":29},765,{"$f":"F37","v":15},{"$f":"G37","v":7},{"$f":"H37","v":0.6},2.6,{"$f":"J37","v":0},14.8,{"$f":"L37","v":29},{"$f":"M37","v":58},{"$f":"N37","v":43},{"$f":"O37","v":10.199999999999999},0,0,0,1.8]
["Krausland AFA+",0,983,983,0,0,0,17,0,0,0,0,0,0,0,0,0,0,1.75]
["Krausland kohles. Kalk",0,970,970,0,0,0,380,0,0,0,0,0,0,0,0,0,0,0.35]
["Krausland Muschelschrot",0,970,970,0,0,0,380,0,0,0,0,0,0,0,0,0,0,0.35]
["Krausland Austernschalen",0,970,970,0,0,0,390,0,0,0,0,0,0,0,0,0,0,0.39]
["EquiOne Schwarzkümmelpellets",16.2,880,64,329,153,71,0,0,0,0,0,0,0,0,0,0,0,0.79]
["Krausland Vitamine",0,880,0,0,0,0,0,0,0,0,0,0,0,0,4200000,0,4000,9]
["Blattin Mineralfutter",2,880,500,85,20,20,210,60,50,1,1,0,0,0,500000,60000,2000,1.6]
["Blattipollo MC Gelb",2,950,500,170,38,45,170,105,60,45,45,null,null,null,500000,100000,1200,1.6,2.5000000000000001E-2]
["E-Max",0,930,930,440,60,250,270,55,55,0,0,45,0,0,0,0,120000,13.9]

{"sheet":"Druckversion","index":4,"n_rows":36,"n_cols":7,"rows_kept":36,"cut":false,"hidden":false,"merged":[[1,1,1,2],[1,5,1,6]]}
[]
[null,"Lege- und Zuchthühner",null,null,null,"Lege- und Zuchthühner"]
[]
[null,"Kosten je 50 kg",{"$f":"Rationsberechnung!M22","v":{"$error":"#DIV/0!"}},null,null,"Kosten je 50 kg",{"$f":"Rationsberechnung!M22","v":{"$error":"#DIV/0!"}}]
[]
[null,"Futtermittel","Menge",null,null,"Futtermittel","Menge"]
[null,{"$f":"HLOOKUP(Futterwertabelle!A$2,Futterwertabelle!A$2:A$126,Rationsberechnung!A5+1,FALSE)","v":"Weizen                   "},{"$f":"(Rationsberechnung!B5/100)*$C$23","v":0},null,null,{"$f":"HLOOKUP(Futterwertabelle!A$2,Futterwertabelle!A$2:A$126,Rationsberechnung!A5+1,FALSE)","v":"Weizen                   "},{"$f":"(Rationsberechnung!B5/100)*$G$23","v":0}]
[null,{"$f":"HLOOKUP(Futterwertabelle!A$2,Futterwertabelle!A$2:A$126,Rationsberechnung!A6+1,FALSE)","v":"< bitte wählen >"},{"$f":"(Rationsberechnung!B6/100)*$C$23","v":0},null,null,{"$f":"HLOOKUP(Futterwertabelle!A$2,Futterwertabelle!A$2:A$126,Rationsberechnung!A6+1,FALSE)","v":"< bitte wählen >"},{"$f":"(Rationsberechnung!B6/100)*$G$23","v":0}]
[null,{"$f":"HLOOKUP(Futterwertabelle!A$2,Futterwertabelle!A$2:A$126,Rationsberechnung!A7+1,FALSE)","v":"< bitte wählen >"},{"$f":"(Rationsberechnung!B7/100)*$C$23","v":0},null,null,{"$f":"HLOOKUP(Futterwertabelle!A$2,Futterwertabelle!A$2:A$126,Rationsberechnung!A7+1,FALSE)","v":"< bitte wählen >"},{"$f":"(Rationsberechnung!B7/100)*$G$23","v":0}]
[null,{"$f":"HLOOKUP(Futterwertabelle!A$2,Futterwertabelle!A$2:A$126,Rationsberechnung!A8+1,FALSE)","v":"< bitte wählen >"},{"$f":"(Rationsberechnung!B8/100)*$C$23","v":0},null,null,{"$f":"HLOOKUP(Futterwertabelle!A$2,Futterwertabelle!A$2:A$126,Rationsberechnung!A8+1,FALSE)","v":"< bitte wählen >"},{"$f":"(Rationsberechnung!B8/100)*$G$23","v":0}]
[null,{"$f":"HLOOKUP(Futterwertabelle!A$2,Futterwertabelle!A$2:A$126,Rationsberechnung!A9+1,FALSE)","v":"< bitte wählen >"},{"$f":"(Rationsberechnung!B9/100)*$C$23","v":0},null,null,{"$f":"HLOOKUP(Futterwertabelle!A$2,Futterwertabelle!A$2:A$126,Rationsberechnung!A9+1,FALSE)","v":"< bitte wählen >"},{"$f":"(Rationsberechnung!B9/100)*$G$23","v":0}]
[null,{"$f":"HLOOKUP(Futterwertabelle!A$2,Futterwertabelle!A$2:A$126,Rationsberechnung!A10+1,FALSE)","v":"< bitte wählen >"},{"$f":"(Rationsberechnung!B10/100)*$C$23","v":0},null,null,{"$f":"HLOOKUP(Futterwertabelle!A$2,Futterwertabelle!A$2:A$126,Rationsberechnung!A10+1,FALSE)","v":"< bitte wählen >"},{"$f":"(Rationsberechnung!B10/100)*$G$23","v":0}]
[null,{"$f":"HLOOKUP(Futterwertabelle!A$2,Futterwertabelle!A$2:A$126,Rationsberechnung!A11+1,FALSE)","v":"< bitte wählen >"},{"$f":"(Rationsberechnung!B11/100)*$C$23","v":0},null,null,{"$f":"HLOOKUP(Futterwertabelle!A$2,Futterwertabelle!A$2:A$126,Rationsberechnung!A11+1,FALSE)","v":"< bitte wählen >"},{"$f":"(Rationsberechnung!B11/100)*$G$23","v":0}]
[null,{"$f":"HLOOKUP(Futterwertabelle!A$2,Futterwertabelle!A$2:A$126,Rationsberechnung!A12+1,FALSE)","v":"< bitte wählen >"},{"$f":"(Rationsberechnung!B12/100)*$C$23","v":0},null,null,{"$f":"HLOOKUP(Futterwertabelle!A$2,Futterwertabelle!A$2:A$126,Rationsberechnung!A12+1,FALSE)","v":"< bitte wählen >"},{"$f":"(Rationsberechnung!B12/100)*$G$23","v":0}]
[null,{"$f":"HLOOKUP(Futterwertabelle!A$2,Futterwertabelle!A$2:A$126,Rationsberechnung!A13+1,FALSE)","v":"< bitte wählen >"},{"$f":"(Rationsberechnung!B13/100)*$C$23","v":0},null,null,{"$f":"HLOOKUP(Futterwertabelle!A$2,Futterwertabelle!A$2:A$126,Rationsberechnung!A13+1,FALSE)","v":"< bitte wählen >"},{"$f":"(Rationsberechnung!B13/100)*$G$23","v":0}]
[null,{"$f":"HLOOKUP(Futterwertabelle!A$2,Futterwertabelle!A$2:A$126,Rationsberechnung!A14+1,FALSE)","v":"< bitte wählen >"},{"$f":"(Rationsberechnung!B14/100)*$C$23","v":0},null,null,{"$f":"HLOOKUP(Futterwertabelle!A$2,Futterwertabelle!A$2:A$126,Rationsberechnung!A14+1,FALSE)","v":"< bitte wählen >"},{"$f":"(Rationsberechnung!B14/100)*$G$23","v":0}]
[null,{"$f":"HLOOKUP(Futterwertabelle!A$2,Futterwertabelle!A$2:A$126,Rationsberechnung!A15+1,FALSE)","v":"< bitte wählen >"},{"$f":"(Rationsberechnung!B15/100)*$C$23","v":0},null,null,{"$f":"HLOOKUP(Futterwertabelle!A$2,Futterwertabelle!A$2:A$126,Rationsberechnung!A15+1,FALSE)","v":"< bitte wählen >"},{"$f":"(Rationsberechnung!B15/100)*$G$23","v":0}]
[null,{"$f":"HLOOKUP(Futterwertabelle!A$2,Futterwertabelle!A$2:A$126,Rationsberechnung!A16+1,FALSE)","v":"< bitte wählen >"},{"$f":"(Rationsberechnung!B16/100)*$C$23","v":0},null,null,{"$f":"HLOOKUP(Futterwertabelle!A$2,Futterwertabelle!A$2:A$126,Rationsberechnung!A16+1,FALSE)","v":"< bitte wählen >"},{"$f":"(Rationsberechnung!B16/100)*$G$23","v":0}]
[null,{"$f":"HLOOKUP(Futterwertabelle!A$2,Futterwertabelle!A$2:A$126,Rationsberechnung!A17+1,FALSE)","v":"< bitte wählen >"},{"$f":"(Rationsberechnung!B17/100)*$C$23","v":0},null,null,{"$f":"HLOOKUP(Futterwertabelle!A$2,Futterwertabelle!A$2:A$126,Rationsberechnung!A17+1,FALSE)","v":"< bitte wählen >"},{"$f":"(Rationsberechnung!B17/100)*$G$23","v":0}]
[null,{"$f":"HLOOKUP(Futterwertabelle!A$2,Futterwertabelle!A$2:A$126,Rationsberechnung!A18+1,FALSE)","v":"< bitte wählen >"},{"$f":"(Rationsberechnung!B18/100)*$C$23","v":1.9531249708961699E-5},null,null,{"$f":"HLOOKUP(Futterwertabelle!A$2,Futterwertabelle!A$2:A$126,Rationsberechnung!A18+1,FALSE)","v":"< bitte wählen >"},{"$f":"(Rationsberechnung!B18/100)*$G$23","v":2.4414062136202122E-5}]
[null,{"$f":"HLOOKUP(Futterwertabelle!A$2,Futterwertabelle!A$2:A$126,Rationsberechnung!A19+1,FALSE)","v":"< bitte wählen >"},{"$f":"(Rationsberechnung!B19/100)*$C$23","v":0},null,null,{"$f":"HLOOKUP(Futterwertabelle!A$2,Futterwertabelle!A$2:A$126,Rationsberechnung!A19+1,FALSE)","v":"< bitte wählen >"},{"$f":"(Rationsberechnung!B19/100)*$G$23","v":0}]
[null,{"$f":"HLOOKUP(Futterwertabelle!A$2,Futterwertabelle!A$2:A$126,Rationsberechnung!A20+1,FALSE)","v":"< bitte wählen >"},{"$f":"(Rationsberechnung!B20/100)*$C$23","v":1.5897940691422391E-2},null,null,{"$f":"HLOOKUP(Futterwertabelle!A$2,Futterwertabelle!A$2:A$126,Rationsberechnung!A20+1,FALSE)","v":"< bitte wählen >"},{"$f":"(Rationsberechnung!B20/100)*$C$23","v":1.5897940691422391E-2}]
[null,"Zielmenge",40,null,null,"Zielmenge",50]
[]
[null,"Energie:",{"$f":"Rationsberechnung!L4","v":{"$error":"#DIV/0!"}},null,null,"Energie:",{"$f":"Rationsberechnung!L4","v":{"$error":"#DIV/0!"}}]
[null,"Rohasche",{"$f":"Rationsberechnung!L5","v":{"$error":"#DIV/0!"}},null,null,"Rohasche",{"$f":"Rationsberechnung!L5","v":{"$error":"#DIV/0!"}}]
[null,"Rohprotein:",{"$f":"Rationsberechnung!L6","v":{"$error":"#DIV/0!"}},null,null,"Rohprotein:",{"$f":"Rationsberechnung!L6","v":{"$error":"#DIV/0!"}}]
[null,"Methionin:",{"$f":"Rationsberechnung!L12","v":{"$error":"#DIV/0!"}},null,null,"Methionin:",{"$f":"Rationsberechnung!L12","v":{"$error":"#DIV/0!"}}]
[null,"Rohfett:",{"$f":"Rationsberechnung!L7","v":{"$error":"#DIV/0!"}},null,null,"Rohfett:",{"$f":"Rationsberechnung!L7","v":{"$error":"#DIV/0!"}}]
[null,"Rohfaser:",{"$f":"Rationsberechnung!L8","v":{"$error":"#DIV/0!"}},null,null,"Rohfaser:",{"$f":"Rationsberechnung!L8","v":{"$error":"#DIV/0!"}}]
[null,"Calcium:",{"$f":"Rationsberechnung!L9","v":{"$error":"#DIV/0!"}},null,null,"Calcium:",{"$f":"Rationsberechnung!L9","v":{"$error":"#DIV/0!"}}]
[null,"Phosphor:",{"$f":"Rationsberechnung!L10","v":{"$error":"#DIV/0!"}},null,null,"Phosphor:",{"$f":"Rationsberechnung!L10","v":{"$error":"#DIV/0!"}}]
[null,"Natrium:",{"$f":"Rationsberechnung!L11","v":{"$error":"#DIV/0!"}},null,null,"Natrium:",{"$f":"Rationsberechnung!L11","v":{"$error":"#DIV/0!"}}]
[null,"Vitamin A:",{"$f":"Rationsberechnung!L17","v":{"$error":"#DIV/0!"}},null,null,"Vitamin A:",{"$f":"Rationsberechnung!L17","v":{"$error":"#DIV/0!"}}]
[null,"Vitamin D3:",{"$f":"Rationsberechnung!L18","v":{"$error":"#DIV/0!"}},null,null,"Vitamin D3:",{"$f":"Rationsberechnung!L18","v":{"$error":"#DIV/0!"}}]
[null,"Vitamin E:",{"$f":"Rationsberechnung!L19","v":{"$error":"#DIV/0!"}},null,null,"Vitamin E:",{"$f":"Rationsberechnung!L19","v":{"$error":"#DIV/0!"}}]